BEGIN:VCALENDAR
VERSION:2.0
PRODID:-//Kingsley Primary School - ECPv6.15.17//NONSGML v1.0//EN
CALSCALE:GREGORIAN
METHOD:PUBLISH
X-WR-CALNAME:Kingsley Primary School
X-ORIGINAL-URL:https://kingsleyps.wa.edu.au
X-WR-CALDESC:Events for Kingsley Primary School
REFRESH-INTERVAL;VALUE=DURATION:PT1H
X-Robots-Tag:noindex
X-PUBLISHED-TTL:PT1H
BEGIN:VTIMEZONE
TZID:Australia/Perth
BEGIN:STANDARD
TZOFFSETFROM:+0800
TZOFFSETTO:+0800
TZNAME:AWST
DTSTART:20250101T000000
END:STANDARD
END:VTIMEZONE
BEGIN:VEVENT
DTSTART;VALUE=DATE:20260703
DTEND;VALUE=DATE:20260704
DTSTAMP:20260420T091756
CREATED:20251126T031008Z
LAST-MODIFIED:20251126T031023Z
UID:1990-1783036800-1783123199@kingsleyps.wa.edu.au
SUMMARY:Last Day of Term 2
DESCRIPTION:
URL:https://kingsleyps.wa.edu.au/calendar/last-day-of-term-2/
CATEGORIES:Term Dates
END:VEVENT
BEGIN:VEVENT
DTSTART;VALUE=DATE:20260720
DTEND;VALUE=DATE:20260721
DTSTAMP:20260420T091756
CREATED:20251126T031115Z
LAST-MODIFIED:20251126T031115Z
UID:1992-1784505600-1784591999@kingsleyps.wa.edu.au
SUMMARY:Students' First Day of Term 3
DESCRIPTION:
URL:https://kingsleyps.wa.edu.au/calendar/students-first-day-of-term-3/
CATEGORIES:Term Dates
END:VEVENT
BEGIN:VEVENT
DTSTART;VALUE=DATE:20260720
DTEND;VALUE=DATE:20260721
DTSTAMP:20260420T091756
CREATED:20251215T005354Z
LAST-MODIFIED:20251215T005354Z
UID:2055-1784505600-1784591999@kingsleyps.wa.edu.au
SUMMARY:Staff Development Day - No Students
DESCRIPTION:
URL:https://kingsleyps.wa.edu.au/calendar/staff-development-day-no-students-5/
CATEGORIES:Professional Development Days
END:VEVENT
END:VCALENDAR