BEGIN:VCALENDAR
VERSION:2.0
PRODID:-//Kingsley Primary School - ECPv6.15.17//NONSGML v1.0//EN
CALSCALE:GREGORIAN
METHOD:PUBLISH
X-ORIGINAL-URL:https://kingsleyps.wa.edu.au
X-WR-CALDESC:Events for Kingsley Primary School
REFRESH-INTERVAL;VALUE=DURATION:PT1H
X-Robots-Tag:noindex
X-PUBLISHED-TTL:PT1H
BEGIN:VTIMEZONE
TZID:Australia/Perth
BEGIN:STANDARD
TZOFFSETFROM:+0800
TZOFFSETTO:+0800
TZNAME:AWST
DTSTART:20250101T000000
END:STANDARD
END:VTIMEZONE
BEGIN:VEVENT
DTSTART;TZID=Australia/Perth:20260202T083000
DTEND;TZID=Australia/Perth:20260202T144500
DTSTAMP:20260421T183634
CREATED:20251126T023039Z
LAST-MODIFIED:20251126T023039Z
UID:1984-1770021000-1770043500@kingsleyps.wa.edu.au
SUMMARY:Students' First Day of Term 1
DESCRIPTION:
URL:https://kingsleyps.wa.edu.au/calendar/students-first-day-of-term-1/
CATEGORIES:Term Dates
END:VEVENT
BEGIN:VEVENT
DTSTART;VALUE=DATE:20260227
DTEND;VALUE=DATE:20260228
DTSTAMP:20260421T183634
CREATED:20251215T005029Z
LAST-MODIFIED:20251215T005029Z
UID:2044-1772150400-1772236799@kingsleyps.wa.edu.au
SUMMARY:Staff Development Day - No students
DESCRIPTION:
URL:https://kingsleyps.wa.edu.au/calendar/staff-development-day-no-students/
CATEGORIES:Professional Development Days
END:VEVENT
END:VCALENDAR