BEGIN:VCALENDAR
VERSION:2.0
PRODID:-//Kingsley Primary School - ECPv6.15.17//NONSGML v1.0//EN
CALSCALE:GREGORIAN
METHOD:PUBLISH
X-WR-CALNAME:Kingsley Primary School
X-ORIGINAL-URL:https://kingsleyps.wa.edu.au
X-WR-CALDESC:Events for Kingsley Primary School
REFRESH-INTERVAL;VALUE=DURATION:PT1H
X-Robots-Tag:noindex
X-PUBLISHED-TTL:PT1H
BEGIN:VTIMEZONE
TZID:Australia/Perth
BEGIN:STANDARD
TZOFFSETFROM:+0800
TZOFFSETTO:+0800
TZNAME:AWST
DTSTART:20240101T000000
END:STANDARD
END:VTIMEZONE
BEGIN:VEVENT
DTSTART;TZID=Australia/Perth:20251205T085500
DTEND;TZID=Australia/Perth:20251205T093000
DTSTAMP:20260421T220601
CREATED:20251017T061940Z
LAST-MODIFIED:20251017T061940Z
UID:1923-1764924900-1764927000@kingsleyps.wa.edu.au
SUMMARY:ASSEMBLY Instrumental Music Students
DESCRIPTION:
URL:https://kingsleyps.wa.edu.au/calendar/assembly-instrumental-music-students/
CATEGORIES:Assembly,Instrumental music
END:VEVENT
BEGIN:VEVENT
DTSTART;TZID=Australia/Perth:20251208T090000
DTEND;TZID=Australia/Perth:20251208T093000
DTSTAMP:20260421T220601
CREATED:20251202T053919Z
LAST-MODIFIED:20251202T053919Z
UID:2007-1765184400-1765186200@kingsleyps.wa.edu.au
SUMMARY:Affirmation medal assembly
DESCRIPTION:
URL:https://kingsleyps.wa.edu.au/calendar/affirmation-medal-assembly/
CATEGORIES:Assembly
END:VEVENT
BEGIN:VEVENT
DTSTART;TZID=Australia/Perth:20251212T085500
DTEND;TZID=Australia/Perth:20251212T093000
DTSTAMP:20260421T220601
CREATED:20251017T062056Z
LAST-MODIFIED:20251017T062056Z
UID:1925-1765529700-1765531800@kingsleyps.wa.edu.au
SUMMARY:BOOK AWARDS ASSEMBLY
DESCRIPTION:
URL:https://kingsleyps.wa.edu.au/calendar/book-awards-assembly-2/
CATEGORIES:Assembly
END:VEVENT
BEGIN:VEVENT
DTSTART;TZID=Australia/Perth:20251215T180000
DTEND;TZID=Australia/Perth:20251215T190000
DTSTAMP:20260421T220601
CREATED:20251017T062204Z
LAST-MODIFIED:20251017T062204Z
UID:1927-1765821600-1765825200@kingsleyps.wa.edu.au
SUMMARY:YEAR 6 GRADUATION
DESCRIPTION:
URL:https://kingsleyps.wa.edu.au/calendar/year-6-graduation-2/
CATEGORIES:School Events
END:VEVENT
BEGIN:VEVENT
DTSTART;VALUE=DATE:20251217
DTEND;VALUE=DATE:20251218
DTSTAMP:20260421T220601
CREATED:20251017T062257Z
LAST-MODIFIED:20251017T062257Z
UID:1929-1765929600-1766015999@kingsleyps.wa.edu.au
SUMMARY:YR 6 ADVENTURE WORLD
DESCRIPTION:
URL:https://kingsleyps.wa.edu.au/calendar/yr-6-adventure-world-2/
CATEGORIES:Excursion
END:VEVENT
BEGIN:VEVENT
DTSTART;VALUE=DATE:20251217
DTEND;VALUE=DATE:20251218
DTSTAMP:20260421T220601
CREATED:20251126T013419Z
LAST-MODIFIED:20251126T013602Z
UID:1967-1765929600-1766015999@kingsleyps.wa.edu.au
SUMMARY:WATER FUN DAY PP-5
DESCRIPTION:
URL:https://kingsleyps.wa.edu.au/calendar/water-fun-day-pp-5/
CATEGORIES:School Events
END:VEVENT
BEGIN:VEVENT
DTSTART;TZID=Australia/Perth:20251218T083000
DTEND;TZID=Australia/Perth:20251218T150000
DTSTAMP:20260421T220601
CREATED:20241129T034038Z
LAST-MODIFIED:20241129T034038Z
UID:1497-1766046600-1766070000@kingsleyps.wa.edu.au
SUMMARY:Final day of Term 4 for Students.
DESCRIPTION:
URL:https://kingsleyps.wa.edu.au/calendar/final-day-of-term-4-for-students/
CATEGORIES:Term Dates
END:VEVENT
BEGIN:VEVENT
DTSTART;TZID=Australia/Perth:20251219T083000
DTEND;TZID=Australia/Perth:20251219T150000
DTSTAMP:20260421T220601
CREATED:20241129T034127Z
LAST-MODIFIED:20241129T034127Z
UID:1499-1766133000-1766156400@kingsleyps.wa.edu.au
SUMMARY:School Development Day - no Students.
DESCRIPTION:
URL:https://kingsleyps.wa.edu.au/calendar/school-development-day-no-students-8/
CATEGORIES:Professional Development Days
END:VEVENT
BEGIN:VEVENT
DTSTART;VALUE=DATE:20251225
DTEND;VALUE=DATE:20251226
DTSTAMP:20260421T220601
CREATED:20241129T040249Z
LAST-MODIFIED:20241129T040249Z
UID:1519-1766620800-1766707199@kingsleyps.wa.edu.au
SUMMARY:Christmas Day
DESCRIPTION:
URL:https://kingsleyps.wa.edu.au/calendar/christmas-day-2/
CATEGORIES:Special Days
END:VEVENT
BEGIN:VEVENT
DTSTART;VALUE=DATE:20251226
DTEND;VALUE=DATE:20251227
DTSTAMP:20260421T220601
CREATED:20241129T040329Z
LAST-MODIFIED:20241129T040329Z
UID:1521-1766707200-1766793599@kingsleyps.wa.edu.au
SUMMARY:Boxing Day.
DESCRIPTION:
URL:https://kingsleyps.wa.edu.au/calendar/boxing-day-2/
CATEGORIES:Special Days
END:VEVENT
END:VCALENDAR