BEGIN:VCALENDAR
VERSION:2.0
PRODID:-//Kingsley Primary School - ECPv6.15.17//NONSGML v1.0//EN
CALSCALE:GREGORIAN
METHOD:PUBLISH
X-ORIGINAL-URL:https://kingsleyps.wa.edu.au
X-WR-CALDESC:Events for Kingsley Primary School
REFRESH-INTERVAL;VALUE=DURATION:PT1H
X-Robots-Tag:noindex
X-PUBLISHED-TTL:PT1H
BEGIN:VTIMEZONE
TZID:Australia/Perth
BEGIN:STANDARD
TZOFFSETFROM:+0800
TZOFFSETTO:+0800
TZNAME:AWST
DTSTART:20240101T000000
END:STANDARD
END:VTIMEZONE
BEGIN:VEVENT
DTSTART;VALUE=DATE:20250602
DTEND;VALUE=DATE:20250603
DTSTAMP:20260424T043218
CREATED:20241129T033531Z
LAST-MODIFIED:20241129T033531Z
UID:1487-1748822400-1748908799@kingsleyps.wa.edu.au
SUMMARY:WA Day public holiday.
DESCRIPTION:
URL:https://kingsleyps.wa.edu.au/calendar/wa-day-public-holiday/
CATEGORIES:Public holiday
END:VEVENT
BEGIN:VEVENT
DTSTART;VALUE=DATE:20250604
DTEND;VALUE=DATE:20250607
DTSTAMP:20260424T043218
CREATED:20250404T064209Z
LAST-MODIFIED:20250404T064209Z
UID:1640-1748995200-1749254399@kingsleyps.wa.edu.au
SUMMARY:Year 6 CAMP!
DESCRIPTION:
URL:https://kingsleyps.wa.edu.au/calendar/year-6-camp/
CATEGORIES:School Events
END:VEVENT
BEGIN:VEVENT
DTSTART;TZID=Australia/Perth:20250606T085500
DTEND;TZID=Australia/Perth:20250606T093000
DTSTAMP:20260424T043218
CREATED:20250404T063746Z
LAST-MODIFIED:20250404T063746Z
UID:1636-1749200100-1749202200@kingsleyps.wa.edu.au
SUMMARY:Assembly Rm 8
DESCRIPTION:
URL:https://kingsleyps.wa.edu.au/calendar/assembly-rm-8/
CATEGORIES:Assembly
END:VEVENT
BEGIN:VEVENT
DTSTART;TZID=Australia/Perth:20250611T110000
DTEND;TZID=Australia/Perth:20250611T130000
DTSTAMP:20260424T043218
CREATED:20250611T031001Z
LAST-MODIFIED:20250610T002630Z
UID:1660-1749639600-1749646800@kingsleyps.wa.edu.au
SUMMARY:Kingsley's Cross Country
DESCRIPTION:
URL:https://kingsleyps.wa.edu.au/calendar/kingsleys-cross-country/
CATEGORIES:Sport
END:VEVENT
BEGIN:VEVENT
DTSTART;TZID=Australia/Perth:20250613T130000
DTEND;TZID=Australia/Perth:20250613T143000
DTSTAMP:20260424T043218
CREATED:20250404T063317Z
LAST-MODIFIED:20250404T063317Z
UID:1626-1749819600-1749825000@kingsleyps.wa.edu.au
SUMMARY:Interschool sport - Kingsley vs Grovelands
DESCRIPTION:
URL:https://kingsleyps.wa.edu.au/calendar/interschool-sport-kingsley-vs-grovelands/
CATEGORIES:Sport
END:VEVENT
BEGIN:VEVENT
DTSTART;VALUE=DATE:20250616
DTEND;VALUE=DATE:20250617
DTSTAMP:20260424T043218
CREATED:20250404T064329Z
LAST-MODIFIED:20250404T064329Z
UID:1642-1750032000-1750118399@kingsleyps.wa.edu.au
SUMMARY:School Photos
DESCRIPTION:
URL:https://kingsleyps.wa.edu.au/calendar/school-photos/
CATEGORIES:School Events
END:VEVENT
BEGIN:VEVENT
DTSTART;TZID=Australia/Perth:20250617T134500
DTEND;TZID=Australia/Perth:20250617T144500
DTSTAMP:20260424T043218
CREATED:20250404T064449Z
LAST-MODIFIED:20250404T064449Z
UID:1644-1750167900-1750171500@kingsleyps.wa.edu.au
SUMMARY:School Council Meeting
DESCRIPTION:
URL:https://kingsleyps.wa.edu.au/calendar/school-council-meeting-5/
CATEGORIES:School Council Meeting
END:VEVENT
BEGIN:VEVENT
DTSTART;VALUE=DATE:20250619
DTEND;VALUE=DATE:20250620
DTSTAMP:20260424T043218
CREATED:20250404T064603Z
LAST-MODIFIED:20250404T064603Z
UID:1646-1750291200-1750377599@kingsleyps.wa.edu.au
SUMMARY:School Photos for Kindy Group 2 and LDC
DESCRIPTION:
URL:https://kingsleyps.wa.edu.au/calendar/school-photos-for-kindy-group-2-and-ldc/
CATEGORIES:School Events
END:VEVENT
BEGIN:VEVENT
DTSTART;TZID=Australia/Perth:20250620T130000
DTEND;TZID=Australia/Perth:20250620T143000
DTSTAMP:20260424T043218
CREATED:20250404T063436Z
LAST-MODIFIED:20250404T063436Z
UID:1629-1750424400-1750429800@kingsleyps.wa.edu.au
SUMMARY:Interschool sport - Clifton Hills vs Kingsley
DESCRIPTION:
URL:https://kingsleyps.wa.edu.au/calendar/interschool-sport-clifton-hills-vs-kingsley/
CATEGORIES:Sport
END:VEVENT
BEGIN:VEVENT
DTSTART;TZID=Australia/Perth:20250627T085500
DTEND;TZID=Australia/Perth:20250627T093000
DTSTAMP:20260424T043218
CREATED:20250404T064727Z
LAST-MODIFIED:20250404T064727Z
UID:1648-1751014500-1751016600@kingsleyps.wa.edu.au
SUMMARY:Assembly Room 2
DESCRIPTION:
URL:https://kingsleyps.wa.edu.au/calendar/assembly-room-2/
CATEGORIES:Assembly
END:VEVENT
BEGIN:VEVENT
DTSTART;TZID=Australia/Perth:20250627T090000
DTEND;TZID=Australia/Perth:20250627T130000
DTSTAMP:20260424T043218
CREATED:20250404T063554Z
LAST-MODIFIED:20250404T063554Z
UID:1632-1751014800-1751029200@kingsleyps.wa.edu.au
SUMMARY:Interschool Cross Country Carnival
DESCRIPTION:
URL:https://kingsleyps.wa.edu.au/calendar/interschool-cross-country-carnival/
CATEGORIES:Sport
END:VEVENT
END:VCALENDAR