BEGIN:VCALENDAR
VERSION:2.0
PRODID:-//Kingsley Primary School - ECPv6.15.17//NONSGML v1.0//EN
CALSCALE:GREGORIAN
METHOD:PUBLISH
X-WR-CALNAME:Kingsley Primary School
X-ORIGINAL-URL:https://kingsleyps.wa.edu.au
X-WR-CALDESC:Events for Kingsley Primary School
REFRESH-INTERVAL;VALUE=DURATION:PT1H
X-Robots-Tag:noindex
X-PUBLISHED-TTL:PT1H
BEGIN:VTIMEZONE
TZID:Australia/Perth
BEGIN:STANDARD
TZOFFSETFROM:+0800
TZOFFSETTO:+0800
TZNAME:AWST
DTSTART:20230101T000000
END:STANDARD
END:VTIMEZONE
BEGIN:VEVENT
DTSTART;TZID=Australia/Perth:20241202T090000
DTEND;TZID=Australia/Perth:20241202T093000
DTSTAMP:20260417T053608
CREATED:20240913T061856Z
LAST-MODIFIED:20240913T061856Z
UID:1372-1733130000-1733131800@kingsleyps.wa.edu.au
SUMMARY:Book Awards Assembly
DESCRIPTION:
URL:https://kingsleyps.wa.edu.au/calendar/book-awards-assembly/
CATEGORIES:School Events
END:VEVENT
BEGIN:VEVENT
DTSTART;VALUE=DATE:20241203
DTEND;VALUE=DATE:20241204
DTSTAMP:20260417T053608
CREATED:20241114T060611Z
LAST-MODIFIED:20241114T060611Z
UID:1425-1733184000-1733270399@kingsleyps.wa.edu.au
SUMMARY:New attendance system begins.
DESCRIPTION:
URL:https://kingsleyps.wa.edu.au/calendar/new-attendance-system-begins/
CATEGORIES:School Events
END:VEVENT
BEGIN:VEVENT
DTSTART;TZID=Australia/Perth:20241204T090000
DTEND;TZID=Australia/Perth:20241204T093000
DTSTAMP:20260417T053608
CREATED:20240913T061953Z
LAST-MODIFIED:20240913T061953Z
UID:1374-1733302800-1733304600@kingsleyps.wa.edu.au
SUMMARY:Affirmation Awards Assembly
DESCRIPTION:
URL:https://kingsleyps.wa.edu.au/calendar/affirmation-awards-assembly-2/
CATEGORIES:School Events
END:VEVENT
BEGIN:VEVENT
DTSTART;TZID=Australia/Perth:20241209T090000
DTEND;TZID=Australia/Perth:20241209T143000
DTSTAMP:20260417T053608
CREATED:20240913T062118Z
LAST-MODIFIED:20240913T062118Z
UID:1376-1733734800-1733754600@kingsleyps.wa.edu.au
SUMMARY:Reward Day for years 1 - 5 at BOUNCE
DESCRIPTION:
URL:https://kingsleyps.wa.edu.au/calendar/reward-day-for-years-1-5-at-bounce/
CATEGORIES:School Events
END:VEVENT
BEGIN:VEVENT
DTSTART;TZID=Australia/Perth:20241209T180000
DTEND;TZID=Australia/Perth:20241209T190000
DTSTAMP:20260417T053608
CREATED:20240913T062212Z
LAST-MODIFIED:20240913T062212Z
UID:1378-1733767200-1733770800@kingsleyps.wa.edu.au
SUMMARY:Year 6 Graduation
DESCRIPTION:
URL:https://kingsleyps.wa.edu.au/calendar/year-6-graduation/
CATEGORIES:School Events
END:VEVENT
BEGIN:VEVENT
DTSTART;TZID=Australia/Perth:20241211T090000
DTEND;TZID=Australia/Perth:20241211T143000
DTSTAMP:20260417T053608
CREATED:20240913T062313Z
LAST-MODIFIED:20240913T062313Z
UID:1380-1733907600-1733927400@kingsleyps.wa.edu.au
SUMMARY:Year 6 Adventure World Excursion
DESCRIPTION:
URL:https://kingsleyps.wa.edu.au/calendar/year-6-adventure-world-excursion/
CATEGORIES:School Events
END:VEVENT
BEGIN:VEVENT
DTSTART;TZID=Australia/Perth:20241211T145000
DTEND;TZID=Australia/Perth:20241211T150000
DTSTAMP:20260417T053608
CREATED:20241114T055013Z
LAST-MODIFIED:20241114T055013Z
UID:1419-1733928600-1733929200@kingsleyps.wa.edu.au
SUMMARY:REPORTS go home.
DESCRIPTION:
URL:https://kingsleyps.wa.edu.au/calendar/reports-go-home/
CATEGORIES:School Events
END:VEVENT
BEGIN:VEVENT
DTSTART;VALUE=DATE:20241212
DTEND;VALUE=DATE:20241213
DTSTAMP:20260417T053608
CREATED:20240227T060155Z
LAST-MODIFIED:20240227T060155Z
UID:922-1733961600-1734047999@kingsleyps.wa.edu.au
SUMMARY:Last day for students.
DESCRIPTION:
URL:https://kingsleyps.wa.edu.au/calendar/last-day-for-students-2/
CATEGORIES:Term Dates
END:VEVENT
BEGIN:VEVENT
DTSTART;TZID=Australia/Perth:20241212T142500
DTEND;TZID=Australia/Perth:20241212T144000
DTSTAMP:20260417T053608
CREATED:20240913T062428Z
LAST-MODIFIED:20240913T062428Z
UID:1382-1734013500-1734014400@kingsleyps.wa.edu.au
SUMMARY:Year 6 Ring the Bell Goodbye
DESCRIPTION:
URL:https://kingsleyps.wa.edu.au/calendar/year-6-ring-the-bell-goodbye/
CATEGORIES:School Events
END:VEVENT
BEGIN:VEVENT
DTSTART;VALUE=DATE:20241213
DTEND;VALUE=DATE:20241214
DTSTAMP:20260417T053608
CREATED:20240227T060240Z
LAST-MODIFIED:20240621T064714Z
UID:924-1734048000-1734134399@kingsleyps.wa.edu.au
SUMMARY:School development day.
DESCRIPTION:
URL:https://kingsleyps.wa.edu.au/calendar/staff-development-day-2/
CATEGORIES:Professional Development Days
END:VEVENT
BEGIN:VEVENT
DTSTART;VALUE=DATE:20241225
DTEND;VALUE=DATE:20241226
DTSTAMP:20260417T053608
CREATED:20241129T040133Z
LAST-MODIFIED:20241129T040133Z
UID:1515-1735084800-1735171199@kingsleyps.wa.edu.au
SUMMARY:Christmas Day
DESCRIPTION:
URL:https://kingsleyps.wa.edu.au/calendar/christmas-day/
CATEGORIES:Special Days
END:VEVENT
BEGIN:VEVENT
DTSTART;VALUE=DATE:20241226
DTEND;VALUE=DATE:20241227
DTSTAMP:20260417T053608
CREATED:20241129T040207Z
LAST-MODIFIED:20241129T040207Z
UID:1517-1735171200-1735257599@kingsleyps.wa.edu.au
SUMMARY:Boxing Day
DESCRIPTION:
URL:https://kingsleyps.wa.edu.au/calendar/boxing-day/
CATEGORIES:Special Days
END:VEVENT
END:VCALENDAR