BEGIN:VCALENDAR
VERSION:2.0
PRODID:-//Kingsley Primary School - ECPv6.15.17//NONSGML v1.0//EN
CALSCALE:GREGORIAN
METHOD:PUBLISH
X-WR-CALNAME:Kingsley Primary School
X-ORIGINAL-URL:https://kingsleyps.wa.edu.au
X-WR-CALDESC:Events for Kingsley Primary School
REFRESH-INTERVAL;VALUE=DURATION:PT1H
X-Robots-Tag:noindex
X-PUBLISHED-TTL:PT1H
BEGIN:VTIMEZONE
TZID:Australia/Perth
BEGIN:STANDARD
TZOFFSETFROM:+0800
TZOFFSETTO:+0800
TZNAME:AWST
DTSTART:20230101T000000
END:STANDARD
END:VTIMEZONE
BEGIN:VEVENT
DTSTART;VALUE=DATE:20241104
DTEND;VALUE=DATE:20241105
DTSTAMP:20260419T223144
CREATED:20240913T061415Z
LAST-MODIFIED:20240913T061415Z
UID:1363-1730678400-1730764799@kingsleyps.wa.edu.au
SUMMARY:Massed Choir Concert rehearsal
DESCRIPTION:
URL:https://kingsleyps.wa.edu.au/calendar/massed-choir-concert-rehearsal/
CATEGORIES:Choir event
END:VEVENT
BEGIN:VEVENT
DTSTART;TZID=Australia/Perth:20241105T080000
DTEND;TZID=Australia/Perth:20241105T150000
DTSTAMP:20260419T223144
CREATED:20241025T060238Z
LAST-MODIFIED:20241025T060238Z
UID:1415-1730793600-1730818800@kingsleyps.wa.edu.au
SUMMARY:Yr 6 KSHS Orientation Day
DESCRIPTION:
URL:https://kingsleyps.wa.edu.au/calendar/yr-6-kshs-orientation-day/
END:VEVENT
BEGIN:VEVENT
DTSTART;TZID=Australia/Perth:20241105T180000
DTEND;TZID=Australia/Perth:20241105T180000
DTSTAMP:20260419T223144
CREATED:20240913T061539Z
LAST-MODIFIED:20240913T061539Z
UID:1365-1730829600-1730829600@kingsleyps.wa.edu.au
SUMMARY:Massed Choir Concert
DESCRIPTION:More information will be coming in Term 4
URL:https://kingsleyps.wa.edu.au/calendar/massed-choir-concert/
CATEGORIES:Choir event
END:VEVENT
BEGIN:VEVENT
DTSTART;TZID=Australia/Perth:20241108T090000
DTEND;TZID=Australia/Perth:20241108T140000
DTSTAMP:20260419T223144
CREATED:20241025T060405Z
LAST-MODIFIED:20241025T060405Z
UID:1417-1731056400-1731074400@kingsleyps.wa.edu.au
SUMMARY:Kindy Orientation Day
DESCRIPTION:
URL:https://kingsleyps.wa.edu.au/calendar/kindy-orientation-day/
END:VEVENT
BEGIN:VEVENT
DTSTART;VALUE=DATE:20241111
DTEND;VALUE=DATE:20241112
DTSTAMP:20260419T223144
CREATED:20240913T061638Z
LAST-MODIFIED:20240913T061638Z
UID:1367-1731283200-1731369599@kingsleyps.wa.edu.au
SUMMARY:Remembrance Day
DESCRIPTION:
URL:https://kingsleyps.wa.edu.au/calendar/remembrance-day/
CATEGORIES:Special Days
END:VEVENT
BEGIN:VEVENT
DTSTART;TZID=Australia/Perth:20241113T134500
DTEND;TZID=Australia/Perth:20241113T150000
DTSTAMP:20260419T223144
CREATED:20240917T021020Z
LAST-MODIFIED:20240917T022433Z
UID:1395-1731505500-1731510000@kingsleyps.wa.edu.au
SUMMARY:School Council Meeting
DESCRIPTION:
URL:https://kingsleyps.wa.edu.au/calendar/school-council-meeting-3/
CATEGORIES:School Council Meeting
END:VEVENT
BEGIN:VEVENT
DTSTART;TZID=Australia/Perth:20241115T090000
DTEND;TZID=Australia/Perth:20241115T100000
DTSTAMP:20260419T223144
CREATED:20240913T061749Z
LAST-MODIFIED:20240913T061749Z
UID:1370-1731661200-1731664800@kingsleyps.wa.edu.au
SUMMARY:Choir and String concert
DESCRIPTION:
URL:https://kingsleyps.wa.edu.au/calendar/choir-and-string-concert/
END:VEVENT
BEGIN:VEVENT
DTSTART;TZID=Australia/Perth:20241118T090000
DTEND;TZID=Australia/Perth:20241118T150000
DTSTAMP:20260419T223144
CREATED:20240913T060131Z
LAST-MODIFIED:20240913T060131Z
UID:1354-1731920400-1731942000@kingsleyps.wa.edu.au
SUMMARY:Swimming Lessons Commence
DESCRIPTION:
URL:https://kingsleyps.wa.edu.au/calendar/swimming-lessons-commence/
CATEGORIES:School Events
END:VEVENT
BEGIN:VEVENT
DTSTART;TZID=Australia/Perth:20241129T090000
DTEND;TZID=Australia/Perth:20241129T150000
DTSTAMP:20260419T223144
CREATED:20240913T060217Z
LAST-MODIFIED:20240913T060217Z
UID:1356-1732870800-1732892400@kingsleyps.wa.edu.au
SUMMARY:Last day of Swimming Lessons
DESCRIPTION:
URL:https://kingsleyps.wa.edu.au/calendar/last-day-of-swimming-lessons/
CATEGORIES:School Events
END:VEVENT
END:VCALENDAR