BEGIN:VCALENDAR
VERSION:2.0
PRODID:-//Kingsley Primary School - ECPv6.15.17//NONSGML v1.0//EN
CALSCALE:GREGORIAN
METHOD:PUBLISH
X-ORIGINAL-URL:https://kingsleyps.wa.edu.au
X-WR-CALDESC:Events for Kingsley Primary School
REFRESH-INTERVAL;VALUE=DURATION:PT1H
X-Robots-Tag:noindex
X-PUBLISHED-TTL:PT1H
BEGIN:VTIMEZONE
TZID:Australia/Perth
BEGIN:STANDARD
TZOFFSETFROM:+0800
TZOFFSETTO:+0800
TZNAME:AWST
DTSTART:20230101T000000
END:STANDARD
END:VTIMEZONE
BEGIN:VEVENT
DTSTART;VALUE=DATE:20241007
DTEND;VALUE=DATE:20241008
DTSTAMP:20260420T000449
CREATED:20240227T060052Z
LAST-MODIFIED:20240227T060052Z
UID:920-1728259200-1728345599@kingsleyps.wa.edu.au
SUMMARY:Students return for Term 4.
DESCRIPTION:
URL:https://kingsleyps.wa.edu.au/calendar/students-return-for-term-4/
CATEGORIES:Term Dates
END:VEVENT
BEGIN:VEVENT
DTSTART;VALUE=DATE:20241007
DTEND;VALUE=DATE:20241008
DTSTAMP:20260420T000449
CREATED:20240913T060349Z
LAST-MODIFIED:20240913T060349Z
UID:1358-1728259200-1728345599@kingsleyps.wa.edu.au
SUMMARY:No Hat = No Sun in term 4!
DESCRIPTION:
URL:https://kingsleyps.wa.edu.au/calendar/no-hat-no-sun-in-term-4/
CATEGORIES:Term Dates
END:VEVENT
BEGIN:VEVENT
DTSTART;VALUE=DATE:20241017
DTEND;VALUE=DATE:20241018
DTSTAMP:20260420T000449
CREATED:20240913T055947Z
LAST-MODIFIED:20240913T055947Z
UID:1350-1729123200-1729209599@kingsleyps.wa.edu.au
SUMMARY:Year 6 School Camp
DESCRIPTION:
URL:https://kingsleyps.wa.edu.au/calendar/year-6-school-camp/
CATEGORIES:School Events
END:VEVENT
BEGIN:VEVENT
DTSTART;VALUE=DATE:20241018
DTEND;VALUE=DATE:20241019
DTSTAMP:20260420T000449
CREATED:20240913T060021Z
LAST-MODIFIED:20240913T060021Z
UID:1352-1729209600-1729295999@kingsleyps.wa.edu.au
SUMMARY:Year 6 School Camp
DESCRIPTION:
URL:https://kingsleyps.wa.edu.au/calendar/year-6-school-camp-2/
CATEGORIES:School Events
END:VEVENT
BEGIN:VEVENT
DTSTART;TZID=Australia/Perth:20241025T085500
DTEND;TZID=Australia/Perth:20241025T093000
DTSTAMP:20260420T000449
CREATED:20240913T062801Z
LAST-MODIFIED:20240913T062801Z
UID:1384-1729846500-1729848600@kingsleyps.wa.edu.au
SUMMARY:Assembly run by Room 15
DESCRIPTION:
URL:https://kingsleyps.wa.edu.au/calendar/assembly-run-by-room-15/
CATEGORIES:Assembly
END:VEVENT
END:VCALENDAR