BEGIN:VCALENDAR
VERSION:2.0
PRODID:-//Kingsley Primary School - ECPv6.15.17//NONSGML v1.0//EN
CALSCALE:GREGORIAN
METHOD:PUBLISH
X-ORIGINAL-URL:https://kingsleyps.wa.edu.au
X-WR-CALDESC:Events for Kingsley Primary School
REFRESH-INTERVAL;VALUE=DURATION:PT1H
X-Robots-Tag:noindex
X-PUBLISHED-TTL:PT1H
BEGIN:VTIMEZONE
TZID:Australia/Perth
BEGIN:STANDARD
TZOFFSETFROM:+0800
TZOFFSETTO:+0800
TZNAME:AWST
DTSTART:20230101T000000
END:STANDARD
END:VTIMEZONE
BEGIN:VEVENT
DTSTART;TZID=Australia/Perth:20240715T080000
DTEND;TZID=Australia/Perth:20240715T150000
DTSTAMP:20260420T040802
CREATED:20240614T013345Z
LAST-MODIFIED:20240614T013345Z
UID:1226-1721030400-1721055600@kingsleyps.wa.edu.au
SUMMARY:School Development Day - no students.
DESCRIPTION:
URL:https://kingsleyps.wa.edu.au/calendar/school-development-day-no-students/
CATEGORIES:Professional Development Days
END:VEVENT
BEGIN:VEVENT
DTSTART;VALUE=DATE:20240716
DTEND;VALUE=DATE:20240717
DTSTAMP:20260420T040802
CREATED:20240227T055752Z
LAST-MODIFIED:20240227T055752Z
UID:914-1721088000-1721174399@kingsleyps.wa.edu.au
SUMMARY:Students return for term 3.
DESCRIPTION:
URL:https://kingsleyps.wa.edu.au/calendar/students-return-for-term-3/
CATEGORIES:Term Dates
END:VEVENT
BEGIN:VEVENT
DTSTART;TZID=Australia/Perth:20240717T080000
DTEND;TZID=Australia/Perth:20240717T170000
DTSTAMP:20260420T040802
CREATED:20240614T013633Z
LAST-MODIFIED:20240621T064630Z
UID:1230-1721203200-1721235600@kingsleyps.wa.edu.au
SUMMARY:Edu Dance Lessons Start
DESCRIPTION:Lessons are on each Wednesday in term 3. \nEduDance Concert date will be advised early term 3.
URL:https://kingsleyps.wa.edu.au/calendar/edu-dance-lessons-start/
CATEGORIES:School Events
END:VEVENT
BEGIN:VEVENT
DTSTART;TZID=Australia/Perth:20240723T101500
DTEND;TZID=Australia/Perth:20240723T110000
DTSTAMP:20260420T040802
CREATED:20240802T063230Z
LAST-MODIFIED:20240802T063230Z
UID:1304-1721729700-1721732400@kingsleyps.wa.edu.au
SUMMARY:NAIDOC Assembly
DESCRIPTION:
URL:https://kingsleyps.wa.edu.au/calendar/naidoc-assembly/
CATEGORIES:School Events
END:VEVENT
BEGIN:VEVENT
DTSTART;VALUE=DATE:20240725
DTEND;VALUE=DATE:20240726
DTSTAMP:20260420T040802
CREATED:20240802T061835Z
LAST-MODIFIED:20240802T061835Z
UID:1292-1721865600-1721951999@kingsleyps.wa.edu.au
SUMMARY:100 DAYS of school
DESCRIPTION:
URL:https://kingsleyps.wa.edu.au/calendar/100-days-of-school/
CATEGORIES:School Events
END:VEVENT
BEGIN:VEVENT
DTSTART;TZID=Australia/Perth:20240729T084500
DTEND;TZID=Australia/Perth:20240729T120000
DTSTAMP:20260420T040802
CREATED:20240802T061658Z
LAST-MODIFIED:20240802T062553Z
UID:1288-1722242700-1722254400@kingsleyps.wa.edu.au
SUMMARY:LIONS Eye screening K-2
DESCRIPTION:
URL:https://kingsleyps.wa.edu.au/calendar/lions-eye-screening-k-2/
CATEGORIES:School Events
END:VEVENT
BEGIN:VEVENT
DTSTART;TZID=Australia/Perth:20240730T084500
DTEND;TZID=Australia/Perth:20240730T120000
DTSTAMP:20260420T040802
CREATED:20240802T061753Z
LAST-MODIFIED:20240802T061753Z
UID:1290-1722329100-1722340800@kingsleyps.wa.edu.au
SUMMARY:LIONS Eye screening K-2
DESCRIPTION:
URL:https://kingsleyps.wa.edu.au/calendar/lions-eye-screening-k-2-2/
CATEGORIES:School Events
END:VEVENT
END:VCALENDAR