BEGIN:VCALENDAR
VERSION:2.0
PRODID:-//Kingsley Primary School - ECPv6.15.17//NONSGML v1.0//EN
CALSCALE:GREGORIAN
METHOD:PUBLISH
X-WR-CALNAME:Kingsley Primary School
X-ORIGINAL-URL:https://kingsleyps.wa.edu.au
X-WR-CALDESC:Events for Kingsley Primary School
REFRESH-INTERVAL;VALUE=DURATION:PT1H
X-Robots-Tag:noindex
X-PUBLISHED-TTL:PT1H
BEGIN:VTIMEZONE
TZID:Australia/Perth
BEGIN:STANDARD
TZOFFSETFROM:+0800
TZOFFSETTO:+0800
TZNAME:AWST
DTSTART:20240101T000000
END:STANDARD
END:VTIMEZONE
BEGIN:VEVENT
DTSTART;VALUE=DATE:20250704
DTEND;VALUE=DATE:20250705
DTSTAMP:20260420T153317
CREATED:20250702T234917Z
LAST-MODIFIED:20250702T234917Z
UID:1799-1751587200-1751673599@kingsleyps.wa.edu.au
SUMMARY:Free Dress Friday
DESCRIPTION:
URL:https://kingsleyps.wa.edu.au/calendar/free-dress-friday/
CATEGORIES:School Events
END:VEVENT
BEGIN:VEVENT
DTSTART;TZID=Australia/Perth:20250704T083000
DTEND;TZID=Australia/Perth:20250704T150000
DTSTAMP:20260420T153317
CREATED:20241129T033326Z
LAST-MODIFIED:20241129T033326Z
UID:1483-1751617800-1751641200@kingsleyps.wa.edu.au
SUMMARY:Final day of Term 2.
DESCRIPTION:
URL:https://kingsleyps.wa.edu.au/calendar/final-day-of-term-2/
CATEGORIES:Term Dates
END:VEVENT
BEGIN:VEVENT
DTSTART;TZID=Australia/Perth:20250721T083000
DTEND;TZID=Australia/Perth:20250721T150000
DTSTAMP:20260420T153317
CREATED:20241129T033651Z
LAST-MODIFIED:20241129T033651Z
UID:1489-1753086600-1753110000@kingsleyps.wa.edu.au
SUMMARY:Term 3 starts for Students.
DESCRIPTION:
URL:https://kingsleyps.wa.edu.au/calendar/term-3-starts-for-students/
CATEGORIES:Term Dates
END:VEVENT
BEGIN:VEVENT
DTSTART;VALUE=DATE:20250722
DTEND;VALUE=DATE:20250723
DTSTAMP:20260420T153317
CREATED:20250723T011015Z
LAST-MODIFIED:20250723T011015Z
UID:1815-1753142400-1753228799@kingsleyps.wa.edu.au
SUMMARY:EduDance Lessons
DESCRIPTION:
URL:https://kingsleyps.wa.edu.au/calendar/edudance-lessons-3/
CATEGORIES:School Events
END:VEVENT
BEGIN:VEVENT
DTSTART;VALUE=DATE:20250729
DTEND;VALUE=DATE:20250730
DTSTAMP:20260420T153317
CREATED:20250723T010618Z
LAST-MODIFIED:20250723T010618Z
UID:1810-1753747200-1753833599@kingsleyps.wa.edu.au
SUMMARY:EduDance Lessons
DESCRIPTION:
URL:https://kingsleyps.wa.edu.au/calendar/edudance-lessons/
CATEGORIES:School Events
END:VEVENT
BEGIN:VEVENT
DTSTART;VALUE=DATE:20250804
DTEND;VALUE=DATE:20250806
DTSTAMP:20260420T153317
CREATED:20250723T005301Z
LAST-MODIFIED:20250723T005317Z
UID:1801-1754265600-1754438399@kingsleyps.wa.edu.au
SUMMARY:Lions Eye Screening
DESCRIPTION:
URL:https://kingsleyps.wa.edu.au/calendar/lions-eye-screening/
CATEGORIES:School Events
END:VEVENT
BEGIN:VEVENT
DTSTART;VALUE=DATE:20250805
DTEND;VALUE=DATE:20250806
DTSTAMP:20260420T153317
CREATED:20250723T010833Z
LAST-MODIFIED:20250723T010858Z
UID:1813-1754352000-1754438399@kingsleyps.wa.edu.au
SUMMARY:EduDance lessons
DESCRIPTION:
URL:https://kingsleyps.wa.edu.au/calendar/edudance-lessons-2/
CATEGORIES:School Events
END:VEVENT
BEGIN:VEVENT
DTSTART;VALUE=DATE:20250812
DTEND;VALUE=DATE:20250813
DTSTAMP:20260420T153317
CREATED:20250723T011056Z
LAST-MODIFIED:20250723T011056Z
UID:1817-1754956800-1755043199@kingsleyps.wa.edu.au
SUMMARY:EduDance Lessons
DESCRIPTION:
URL:https://kingsleyps.wa.edu.au/calendar/edudance-lessons-4/
CATEGORIES:School Events
END:VEVENT
BEGIN:VEVENT
DTSTART;VALUE=DATE:20250819
DTEND;VALUE=DATE:20250820
DTSTAMP:20260420T153317
CREATED:20250723T011126Z
LAST-MODIFIED:20250723T011126Z
UID:1819-1755561600-1755647999@kingsleyps.wa.edu.au
SUMMARY:EduDance Lessons
DESCRIPTION:
URL:https://kingsleyps.wa.edu.au/calendar/edudance-lessons-5/
CATEGORIES:School Events
END:VEVENT
BEGIN:VEVENT
DTSTART;TZID=Australia/Perth:20250820T090000
DTEND;TZID=Australia/Perth:20250820T093000
DTSTAMP:20260420T153317
CREATED:20250723T005514Z
LAST-MODIFIED:20250723T005514Z
UID:1803-1755680400-1755682200@kingsleyps.wa.edu.au
SUMMARY:Kindy Book Week Parade
DESCRIPTION:
URL:https://kingsleyps.wa.edu.au/calendar/kindy-book-week-parade/
CATEGORIES:Kindy
END:VEVENT
BEGIN:VEVENT
DTSTART;TZID=Australia/Perth:20250821T090000
DTEND;TZID=Australia/Perth:20250821T093000
DTSTAMP:20260420T153317
CREATED:20250723T005611Z
LAST-MODIFIED:20250723T005611Z
UID:1805-1755766800-1755768600@kingsleyps.wa.edu.au
SUMMARY:Book Week Parade
DESCRIPTION:
URL:https://kingsleyps.wa.edu.au/calendar/book-week-parade-2/
CATEGORIES:School Events
END:VEVENT
BEGIN:VEVENT
DTSTART;TZID=Australia/Perth:20250822T083000
DTEND;TZID=Australia/Perth:20250822T150000
DTSTAMP:20260420T153317
CREATED:20241129T033836Z
LAST-MODIFIED:20241129T033836Z
UID:1493-1755851400-1755874800@kingsleyps.wa.edu.au
SUMMARY:School Development Day - no students.
DESCRIPTION:
URL:https://kingsleyps.wa.edu.au/calendar/school-development-day-no-students-7/
CATEGORIES:Professional Development Days
END:VEVENT
BEGIN:VEVENT
DTSTART;VALUE=DATE:20250826
DTEND;VALUE=DATE:20250827
DTSTAMP:20260420T153317
CREATED:20250723T011153Z
LAST-MODIFIED:20250723T011153Z
UID:1821-1756166400-1756252799@kingsleyps.wa.edu.au
SUMMARY:EduDance Lessons
DESCRIPTION:
URL:https://kingsleyps.wa.edu.au/calendar/edudance-lessons-6/
CATEGORIES:School Events
END:VEVENT
BEGIN:VEVENT
DTSTART;TZID=Australia/Perth:20250826T083000
DTEND;TZID=Australia/Perth:20250826T130000
DTSTAMP:20260420T153317
CREATED:20250627T064409Z
LAST-MODIFIED:20250627T064516Z
UID:1785-1756197000-1756213200@kingsleyps.wa.edu.au
SUMMARY:Massed Choir Rehearsal
DESCRIPTION:
URL:https://kingsleyps.wa.edu.au/calendar/massed-choir-rehearsal/
CATEGORIES:Choir event
END:VEVENT
BEGIN:VEVENT
DTSTART;TZID=Australia/Perth:20250827T090000
DTEND;TZID=Australia/Perth:20250827T120000
DTSTAMP:20260420T153317
CREATED:20250723T005801Z
LAST-MODIFIED:20250723T005801Z
UID:1807-1756285200-1756296000@kingsleyps.wa.edu.au
SUMMARY:Athletics Jumps and Throws
DESCRIPTION:
URL:https://kingsleyps.wa.edu.au/calendar/athletics-jumps-and-throws/
CATEGORIES:Sport
END:VEVENT
BEGIN:VEVENT
DTSTART;TZID=Australia/Perth:20250829T090000
DTEND;TZID=Australia/Perth:20250829T143000
DTSTAMP:20260420T153317
CREATED:20250627T064632Z
LAST-MODIFIED:20250627T064632Z
UID:1787-1756458000-1756477800@kingsleyps.wa.edu.au
SUMMARY:Athletics Carnival
DESCRIPTION:
URL:https://kingsleyps.wa.edu.au/calendar/athletics-carnival-2/
CATEGORIES:Sport
END:VEVENT
BEGIN:VEVENT
DTSTART;VALUE=DATE:20250902
DTEND;VALUE=DATE:20250903
DTSTAMP:20260420T153317
CREATED:20250723T011232Z
LAST-MODIFIED:20250723T011232Z
UID:1823-1756771200-1756857599@kingsleyps.wa.edu.au
SUMMARY:EduDance Lessons
DESCRIPTION:
URL:https://kingsleyps.wa.edu.au/calendar/edudance-lessons-7/
CATEGORIES:School Events
END:VEVENT
BEGIN:VEVENT
DTSTART;TZID=Australia/Perth:20250905T085500
DTEND;TZID=Australia/Perth:20250905T093000
DTSTAMP:20260420T153317
CREATED:20250815T062321Z
LAST-MODIFIED:20250815T062321Z
UID:1845-1757062500-1757064600@kingsleyps.wa.edu.au
SUMMARY:Assembly Room 3
DESCRIPTION:
URL:https://kingsleyps.wa.edu.au/calendar/assembly-room-3/
CATEGORIES:Assembly
END:VEVENT
BEGIN:VEVENT
DTSTART;VALUE=DATE:20250909
DTEND;VALUE=DATE:20250910
DTSTAMP:20260420T153317
CREATED:20250723T011324Z
LAST-MODIFIED:20250723T011324Z
UID:1825-1757376000-1757462399@kingsleyps.wa.edu.au
SUMMARY:EduDance Lessons
DESCRIPTION:
URL:https://kingsleyps.wa.edu.au/calendar/edudance-lessons-8/
CATEGORIES:School Events
END:VEVENT
BEGIN:VEVENT
DTSTART;TZID=Australia/Perth:20250909T134500
DTEND;TZID=Australia/Perth:20250909T144500
DTSTAMP:20260420T153317
CREATED:20250815T062851Z
LAST-MODIFIED:20250815T062851Z
UID:1851-1757425500-1757429100@kingsleyps.wa.edu.au
SUMMARY:School Council Meeting
DESCRIPTION:
URL:https://kingsleyps.wa.edu.au/calendar/school-council-meeting-6/
CATEGORIES:School Council Meeting
END:VEVENT
BEGIN:VEVENT
DTSTART;TZID=Australia/Perth:20250910T090000
DTEND;TZID=Australia/Perth:20250910T130000
DTSTAMP:20260420T153317
CREATED:20250627T065327Z
LAST-MODIFIED:20250627T065327Z
UID:1797-1757494800-1757509200@kingsleyps.wa.edu.au
SUMMARY:School Fete
DESCRIPTION:
URL:https://kingsleyps.wa.edu.au/calendar/school-fete/
CATEGORIES:School Events
END:VEVENT
BEGIN:VEVENT
DTSTART;TZID=Australia/Perth:20250912T090000
DTEND;TZID=Australia/Perth:20250912T150000
DTSTAMP:20260420T153317
CREATED:20250627T064736Z
LAST-MODIFIED:20250627T064747Z
UID:1789-1757667600-1757689200@kingsleyps.wa.edu.au
SUMMARY:Inter-school Athletics Carnival
DESCRIPTION:
URL:https://kingsleyps.wa.edu.au/calendar/inter-school-athletics-carnival/
CATEGORIES:Sport
END:VEVENT
BEGIN:VEVENT
DTSTART;TZID=Australia/Perth:20250916T180000
DTEND;TZID=Australia/Perth:20250916T190000
DTSTAMP:20260420T153317
CREATED:20250627T064926Z
LAST-MODIFIED:20250627T064926Z
UID:1791-1758045600-1758049200@kingsleyps.wa.edu.au
SUMMARY:Edu-Dance Concert
DESCRIPTION:
URL:https://kingsleyps.wa.edu.au/calendar/edu-dance-concert-2/
CATEGORIES:School Events
END:VEVENT
BEGIN:VEVENT
DTSTART;TZID=Australia/Perth:20250919T085500
DTEND;TZID=Australia/Perth:20250919T093000
DTSTAMP:20260420T153317
CREATED:20250815T062507Z
LAST-MODIFIED:20250815T062507Z
UID:1849-1758272100-1758274200@kingsleyps.wa.edu.au
SUMMARY:LDC Assembly
DESCRIPTION:
URL:https://kingsleyps.wa.edu.au/calendar/ldc-assembly/
CATEGORIES:Assembly
END:VEVENT
BEGIN:VEVENT
DTSTART;TZID=Australia/Perth:20250922T090000
DTEND;TZID=Australia/Perth:20250922T140000
DTSTAMP:20260420T153317
CREATED:20250627T065017Z
LAST-MODIFIED:20250627T065017Z
UID:1793-1758531600-1758549600@kingsleyps.wa.edu.au
SUMMARY:Massed Choir Rehearsal
DESCRIPTION:
URL:https://kingsleyps.wa.edu.au/calendar/massed-choir-rehearsal-2/
CATEGORIES:Choir event
END:VEVENT
BEGIN:VEVENT
DTSTART;TZID=Australia/Perth:20250923T080000
DTEND;TZID=Australia/Perth:20250923T170000
DTSTAMP:20260420T153317
CREATED:20250627T065115Z
LAST-MODIFIED:20250627T065115Z
UID:1795-1758614400-1758646800@kingsleyps.wa.edu.au
SUMMARY:Massed Choir Rehearsal and Concert
DESCRIPTION:Details to follow
URL:https://kingsleyps.wa.edu.au/calendar/massed-choir-rehearsal-and-concert/
CATEGORIES:Choir event
END:VEVENT
BEGIN:VEVENT
DTSTART;TZID=Australia/Perth:20250926T083000
DTEND;TZID=Australia/Perth:20250926T150000
DTSTAMP:20260420T153317
CREATED:20241129T033745Z
LAST-MODIFIED:20241129T033745Z
UID:1491-1758875400-1758898800@kingsleyps.wa.edu.au
SUMMARY:Final day of Term 3.
DESCRIPTION:
URL:https://kingsleyps.wa.edu.au/calendar/final-day-of-term-3/
CATEGORIES:Term Dates
END:VEVENT
BEGIN:VEVENT
DTSTART;VALUE=DATE:20250929
DTEND;VALUE=DATE:20250930
DTSTAMP:20260420T153317
CREATED:20241129T040503Z
LAST-MODIFIED:20241129T040503Z
UID:1523-1759104000-1759190399@kingsleyps.wa.edu.au
SUMMARY:King's Birthday - public holiday.
DESCRIPTION:
URL:https://kingsleyps.wa.edu.au/calendar/kings-birthday-public-holiday/
CATEGORIES:Public holiday
END:VEVENT
BEGIN:VEVENT
DTSTART;TZID=Australia/Perth:20251013T083000
DTEND;TZID=Australia/Perth:20251013T150000
DTSTAMP:20260420T153317
CREATED:20241129T033945Z
LAST-MODIFIED:20241129T033945Z
UID:1495-1760344200-1760367600@kingsleyps.wa.edu.au
SUMMARY:Start of Term 4 for Students.
DESCRIPTION:
URL:https://kingsleyps.wa.edu.au/calendar/start-of-term-4-for-students/
CATEGORIES:Term Dates
END:VEVENT
BEGIN:VEVENT
DTSTART;TZID=Australia/Perth:20251023T100000
DTEND;TZID=Australia/Perth:20251023T110000
DTSTAMP:20260420T153317
CREATED:20251015T041629Z
LAST-MODIFIED:20251015T042300Z
UID:1895-1761213600-1761217200@kingsleyps.wa.edu.au
SUMMARY:Western Australian Symphony Orchestra Incursion - FREE K-6.
DESCRIPTION:
URL:https://kingsleyps.wa.edu.au/calendar/western-australian-symphony-orchestra-incursion-free/
CATEGORIES:Incursion
END:VEVENT
END:VCALENDAR