BEGIN:VCALENDAR
VERSION:2.0
PRODID:-//Kingsley Primary School - ECPv6.15.17//NONSGML v1.0//EN
CALSCALE:GREGORIAN
METHOD:PUBLISH
X-WR-CALNAME:Kingsley Primary School
X-ORIGINAL-URL:https://kingsleyps.wa.edu.au
X-WR-CALDESC:Events for Kingsley Primary School
REFRESH-INTERVAL;VALUE=DURATION:PT1H
X-Robots-Tag:noindex
X-PUBLISHED-TTL:PT1H
BEGIN:VTIMEZONE
TZID:Australia/Perth
BEGIN:STANDARD
TZOFFSETFROM:+0800
TZOFFSETTO:+0800
TZNAME:AWST
DTSTART:20230101T000000
END:STANDARD
END:VTIMEZONE
BEGIN:VEVENT
DTSTART;TZID=Australia/Perth:20240614T085500
DTEND;TZID=Australia/Perth:20240614T093000
DTSTAMP:20260420T082813
CREATED:20240325T065912Z
LAST-MODIFIED:20240325T065912Z
UID:1029-1718355300-1718357400@kingsleyps.wa.edu.au
SUMMARY:ASSEMBLY Room 8
DESCRIPTION:
URL:https://kingsleyps.wa.edu.au/calendar/assembly-room-8/
CATEGORIES:Assembly
END:VEVENT
BEGIN:VEVENT
DTSTART;TZID=Australia/Perth:20240607T085000
DTEND;TZID=Australia/Perth:20240607T130000
DTSTAMP:20260420T082813
CREATED:20240325T065812Z
LAST-MODIFIED:20240325T065812Z
UID:1027-1717750200-1717765200@kingsleyps.wa.edu.au
SUMMARY:INTER-SCHOOL CROSS COUNTRY
DESCRIPTION:
URL:https://kingsleyps.wa.edu.au/calendar/inter-school-cross-country/
CATEGORIES:Sport
END:VEVENT
BEGIN:VEVENT
DTSTART;TZID=Australia/Perth:20240603T090000
DTEND;TZID=Australia/Perth:20240603T130000
DTSTAMP:20260420T082813
CREATED:20240503T060350Z
LAST-MODIFIED:20240503T060350Z
UID:1088-1717405200-1717419600@kingsleyps.wa.edu.au
SUMMARY:Inter-school Cross Country
DESCRIPTION:
URL:https://kingsleyps.wa.edu.au/calendar/inter-school-cross-country-2/
CATEGORIES:Sport
END:VEVENT
BEGIN:VEVENT
DTSTART;VALUE=DATE:20240603
DTEND;VALUE=DATE:20240604
DTSTAMP:20260420T082813
CREATED:20240227T055338Z
LAST-MODIFIED:20240227T055421Z
UID:908-1717372800-1717459199@kingsleyps.wa.edu.au
SUMMARY:Public Holiday WA DAY
DESCRIPTION:
URL:https://kingsleyps.wa.edu.au/calendar/public-holiday-wa-day/
CATEGORIES:Special Days
END:VEVENT
BEGIN:VEVENT
DTSTART;VALUE=DATE:20240531
DTEND;VALUE=DATE:20240601
DTSTAMP:20260420T082813
CREATED:20240227T055519Z
LAST-MODIFIED:20240227T055519Z
UID:910-1717113600-1717199999@kingsleyps.wa.edu.au
SUMMARY:Staff Development Day - no school for students.
DESCRIPTION:
URL:https://kingsleyps.wa.edu.au/calendar/staff-development-day-no-school-for-students/
CATEGORIES:Professional Development Days
END:VEVENT
BEGIN:VEVENT
DTSTART;VALUE=DATE:20240530
DTEND;VALUE=DATE:20240531
DTSTAMP:20260420T082813
CREATED:20240503T062203Z
LAST-MODIFIED:20240503T062203Z
UID:1100-1717027200-1717113599@kingsleyps.wa.edu.au
SUMMARY:Read and Raise Fundraiser Ends
DESCRIPTION:
URL:https://kingsleyps.wa.edu.au/calendar/read-and-raise-fundraiser-ends/
CATEGORIES:School Events
END:VEVENT
BEGIN:VEVENT
DTSTART;TZID=Australia/Perth:20240529T140000
DTEND;TZID=Australia/Perth:20240529T150000
DTSTAMP:20260420T082813
CREATED:20240503T062643Z
LAST-MODIFIED:20240503T062643Z
UID:1102-1716991200-1716994800@kingsleyps.wa.edu.au
SUMMARY:School Council Meeting
DESCRIPTION:
URL:https://kingsleyps.wa.edu.au/calendar/school-council-meeting/
CATEGORIES:School Council Meeting
END:VEVENT
BEGIN:VEVENT
DTSTART;TZID=Australia/Perth:20240529T084500
DTEND;TZID=Australia/Perth:20240529T133000
DTSTAMP:20260420T082813
CREATED:20240524T061350Z
LAST-MODIFIED:20240524T061350Z
UID:1184-1716972300-1716989400@kingsleyps.wa.edu.au
SUMMARY:Year 6's School Fete
DESCRIPTION:Students will visit the fete in class groups.
URL:https://kingsleyps.wa.edu.au/calendar/year-6s-school-fete/
CATEGORIES:School Events
END:VEVENT
BEGIN:VEVENT
DTSTART;TZID=Australia/Perth:20240524T110000
DTEND;TZID=Australia/Perth:20240524T130000
DTSTAMP:20260420T082813
CREATED:20240503T055748Z
LAST-MODIFIED:20240524T004946Z
UID:1086-1716548400-1716555600@kingsleyps.wa.edu.au
SUMMARY:Kingsley Cross Country
DESCRIPTION:
URL:https://kingsleyps.wa.edu.au/calendar/kingsley-cross-country/
CATEGORIES:Sport
END:VEVENT
BEGIN:VEVENT
DTSTART;TZID=Australia/Perth:20240524T085500
DTEND;TZID=Australia/Perth:20240524T090000
DTSTAMP:20260420T082813
CREATED:20240325T065540Z
LAST-MODIFIED:20240325T065540Z
UID:1025-1716540900-1716541200@kingsleyps.wa.edu.au
SUMMARY:ASSEMBLY Room 7
DESCRIPTION:
URL:https://kingsleyps.wa.edu.au/calendar/assembly-room-7/
CATEGORIES:Assembly
END:VEVENT
BEGIN:VEVENT
DTSTART;TZID=Australia/Perth:20240517T130000
DTEND;TZID=Australia/Perth:20240517T145000
DTSTAMP:20260420T082813
CREATED:20240325T064402Z
LAST-MODIFIED:20240325T064402Z
UID:1021-1715950800-1715957400@kingsleyps.wa.edu.au
SUMMARY:Inter-school sport - at  Grovelands PS.
DESCRIPTION:
URL:https://kingsleyps.wa.edu.au/calendar/inter-school-sport-at-grovelands-ps/
CATEGORIES:Sport
END:VEVENT
BEGIN:VEVENT
DTSTART;VALUE=DATE:20240513
DTEND;VALUE=DATE:20240514
DTSTAMP:20260420T082813
CREATED:20240503T062125Z
LAST-MODIFIED:20240503T062125Z
UID:1098-1715558400-1715644799@kingsleyps.wa.edu.au
SUMMARY:Read and Raise Fundraiser Commences
DESCRIPTION:More information coming soon.
URL:https://kingsleyps.wa.edu.au/calendar/read-and-raise-fundraiser-commences/
CATEGORIES:School Events
END:VEVENT
BEGIN:VEVENT
DTSTART;TZID=Australia/Perth:20240510T130000
DTEND;TZID=Australia/Perth:20240510T145000
DTSTAMP:20260420T082813
CREATED:20240325T033928Z
LAST-MODIFIED:20240325T033928Z
UID:1019-1715346000-1715352600@kingsleyps.wa.edu.au
SUMMARY:Inter-school sport - at  Kingsley vs Willandra.
DESCRIPTION:
URL:https://kingsleyps.wa.edu.au/calendar/inter-school-sport-at-kingsley-vs-willandra/
CATEGORIES:Sport
END:VEVENT
BEGIN:VEVENT
DTSTART;TZID=Australia/Perth:20240503T085500
DTEND;TZID=Australia/Perth:20240503T093000
DTSTAMP:20260420T082813
CREATED:20240325T064508Z
LAST-MODIFIED:20240325T064508Z
UID:1023-1714726500-1714728600@kingsleyps.wa.edu.au
SUMMARY:ASSEMBLY Room 11
DESCRIPTION:
URL:https://kingsleyps.wa.edu.au/calendar/assembly-room-11/
CATEGORIES:Assembly
END:VEVENT
BEGIN:VEVENT
DTSTART;TZID=Australia/Perth:20240426T130000
DTEND;TZID=Australia/Perth:20240426T145000
DTSTAMP:20260420T082813
CREATED:20240325T033759Z
LAST-MODIFIED:20240325T033759Z
UID:1017-1714136400-1714143000@kingsleyps.wa.edu.au
SUMMARY:Inter-school sport - at  Gwynne Park PS.
DESCRIPTION:
URL:https://kingsleyps.wa.edu.au/calendar/inter-school-sport-at-gwynne-park-ps/
CATEGORIES:Sport
END:VEVENT
BEGIN:VEVENT
DTSTART;VALUE=DATE:20240425
DTEND;VALUE=DATE:20240426
DTSTAMP:20260420T082813
CREATED:20240227T060404Z
LAST-MODIFIED:20240227T060404Z
UID:926-1714003200-1714089599@kingsleyps.wa.edu.au
SUMMARY:ANZAC Day
DESCRIPTION:
URL:https://kingsleyps.wa.edu.au/calendar/anzac-day/
CATEGORIES:Special Days
END:VEVENT
BEGIN:VEVENT
DTSTART;TZID=Australia/Perth:20240424T140000
DTEND;TZID=Australia/Perth:20240424T143000
DTSTAMP:20260420T082813
CREATED:20240325T033304Z
LAST-MODIFIED:20240325T033304Z
UID:1011-1713967200-1713969000@kingsleyps.wa.edu.au
SUMMARY:ANZAC Day Ceremony
DESCRIPTION:
URL:https://kingsleyps.wa.edu.au/calendar/anzac-day-ceremony/
CATEGORIES:School Events
END:VEVENT
BEGIN:VEVENT
DTSTART;VALUE=DATE:20240415
DTEND;VALUE=DATE:20240416
DTSTAMP:20260420T082813
CREATED:20240227T054612Z
LAST-MODIFIED:20240227T054612Z
UID:903-1713139200-1713225599@kingsleyps.wa.edu.au
SUMMARY:Students return for term 2.
DESCRIPTION:
URL:https://kingsleyps.wa.edu.au/calendar/students-return-for-term-2/
CATEGORIES:Term Dates
END:VEVENT
BEGIN:VEVENT
DTSTART;VALUE=DATE:20240329
DTEND;VALUE=DATE:20240330
DTSTAMP:20260420T082813
CREATED:20240206T033955Z
LAST-MODIFIED:20240227T054851Z
UID:860-1711670400-1711756799@kingsleyps.wa.edu.au
SUMMARY:Good Friday
DESCRIPTION:
URL:https://kingsleyps.wa.edu.au/calendar/good-friday/
CATEGORIES:Special Days
END:VEVENT
BEGIN:VEVENT
DTSTART;TZID=Australia/Perth:20240328T090000
DTEND;TZID=Australia/Perth:20240328T093000
DTSTAMP:20260420T082813
CREATED:20240206T033908Z
LAST-MODIFIED:20240206T033908Z
UID:858-1711616400-1711618200@kingsleyps.wa.edu.au
SUMMARY:Easter Bonnet Parade!
DESCRIPTION:
URL:https://kingsleyps.wa.edu.au/calendar/easter-bonnet-parade/
CATEGORIES:School Events
END:VEVENT
BEGIN:VEVENT
DTSTART;VALUE=DATE:20240328
DTEND;VALUE=DATE:20240329
DTSTAMP:20260420T082813
CREATED:20240206T033803Z
LAST-MODIFIED:20240227T054928Z
UID:856-1711584000-1711670399@kingsleyps.wa.edu.au
SUMMARY:Students last day for term 1.
DESCRIPTION:
URL:https://kingsleyps.wa.edu.au/calendar/students-last-day-for-term-1/
CATEGORIES:Term Dates
END:VEVENT
BEGIN:VEVENT
DTSTART;TZID=Australia/Perth:20240322T085500
DTEND;TZID=Australia/Perth:20240322T093000
DTSTAMP:20260420T082813
CREATED:20240206T033216Z
LAST-MODIFIED:20240206T033216Z
UID:851-1711097700-1711099800@kingsleyps.wa.edu.au
SUMMARY:Assembly run by Room 1.
DESCRIPTION:
URL:https://kingsleyps.wa.edu.au/calendar/assembly-run-by-room-1/
CATEGORIES:Assembly
END:VEVENT
BEGIN:VEVENT
DTSTART;VALUE=DATE:20240322
DTEND;VALUE=DATE:20240323
DTSTAMP:20260420T082813
CREATED:20240206T033647Z
LAST-MODIFIED:20240206T033647Z
UID:854-1711065600-1711151999@kingsleyps.wa.edu.au
SUMMARY:Harmony Day
DESCRIPTION:
URL:https://kingsleyps.wa.edu.au/calendar/harmony-day/
CATEGORIES:Special Days
END:VEVENT
BEGIN:VEVENT
DTSTART;VALUE=DATE:20240313
DTEND;VALUE=DATE:20240326
DTSTAMP:20260420T082813
CREATED:20240227T032748Z
LAST-MODIFIED:20240227T032748Z
UID:898-1710288000-1711411199@kingsleyps.wa.edu.au
SUMMARY:NAPLAN
DESCRIPTION:
URL:https://kingsleyps.wa.edu.au/calendar/naplan/
CATEGORIES:School Events
END:VEVENT
BEGIN:VEVENT
DTSTART;TZID=Australia/Perth:20240308T085500
DTEND;TZID=Australia/Perth:20240308T093000
DTSTAMP:20260420T082813
CREATED:20240206T033023Z
LAST-MODIFIED:20240206T033110Z
UID:849-1709888100-1709890200@kingsleyps.wa.edu.au
SUMMARY:Assembly run by Room 12.
DESCRIPTION:
URL:https://kingsleyps.wa.edu.au/calendar/assembly-run-by-room-12/
CATEGORIES:Assembly
END:VEVENT
BEGIN:VEVENT
DTSTART;VALUE=DATE:20240304
DTEND;VALUE=DATE:20240305
DTSTAMP:20260420T082813
CREATED:20240206T032911Z
LAST-MODIFIED:20240206T032911Z
UID:847-1709510400-1709596799@kingsleyps.wa.edu.au
SUMMARY:Labour Day Holiday!
DESCRIPTION:
URL:https://kingsleyps.wa.edu.au/calendar/labour-day-holiday/
END:VEVENT
BEGIN:VEVENT
DTSTART;TZID=Australia/Perth:20240216T085500
DTEND;TZID=Australia/Perth:20240216T093000
DTSTAMP:20260420T082813
CREATED:20240206T032824Z
LAST-MODIFIED:20240206T033343Z
UID:845-1708073700-1708075800@kingsleyps.wa.edu.au
SUMMARY:Assembly run by Student Councillors.
DESCRIPTION:
URL:https://kingsleyps.wa.edu.au/calendar/assembly-run-by-student-councillors/
CATEGORIES:Assembly
END:VEVENT
BEGIN:VEVENT
DTSTART;TZID=Australia/Perth:20240216T074500
DTEND;TZID=Australia/Perth:20240216T081500
DTSTAMP:20260420T082813
CREATED:20240206T032708Z
LAST-MODIFIED:20240209T004515Z
UID:843-1708069500-1708071300@kingsleyps.wa.edu.au
SUMMARY:Community Breakfast at Creyk Park.
DESCRIPTION:Come down to Creyk Park at 7:45am and enjoy a free sausage sizzle breakfast!
URL:https://kingsleyps.wa.edu.au/calendar/community-breakfast-at-creyk-park/
LOCATION:Creyk Park\, 15 Lillian Avenue\, Kelmscott\, WA\, Australia
CATEGORIES:School Events
END:VEVENT
BEGIN:VEVENT
DTSTART;VALUE=DATE:20240131
DTEND;VALUE=DATE:20240201
DTSTAMP:20260420T082813
CREATED:20231204T125924Z
LAST-MODIFIED:20231212T055018Z
UID:650-1706659200-1706745599@kingsleyps.wa.edu.au
SUMMARY:Term 1 Begins for students
DESCRIPTION:
URL:https://kingsleyps.wa.edu.au/calendar/term-1-begins/
CATEGORIES:Term Dates
END:VEVENT
BEGIN:VEVENT
DTSTART;VALUE=DATE:20240130
DTEND;VALUE=DATE:20240131
DTSTAMP:20260420T082813
CREATED:20231212T054846Z
LAST-MODIFIED:20231212T054846Z
UID:826-1706572800-1706659199@kingsleyps.wa.edu.au
SUMMARY:School Development Day
DESCRIPTION:
URL:https://kingsleyps.wa.edu.au/calendar/school-development-day-2/
CATEGORIES:Professional Development Days
END:VEVENT
END:VCALENDAR