BEGIN:VCALENDAR
VERSION:2.0
PRODID:-//Kingsley Primary School - ECPv6.15.17//NONSGML v1.0//EN
CALSCALE:GREGORIAN
METHOD:PUBLISH
X-WR-CALNAME:Kingsley Primary School
X-ORIGINAL-URL:https://kingsleyps.wa.edu.au
X-WR-CALDESC:Events for Kingsley Primary School
REFRESH-INTERVAL;VALUE=DURATION:PT1H
X-Robots-Tag:noindex
X-PUBLISHED-TTL:PT1H
BEGIN:VTIMEZONE
TZID:Australia/Perth
BEGIN:STANDARD
TZOFFSETFROM:+0800
TZOFFSETTO:+0800
TZNAME:AWST
DTSTART:20250101T000000
END:STANDARD
END:VTIMEZONE
BEGIN:VEVENT
DTSTART;VALUE=DATE:20261217
DTEND;VALUE=DATE:20261218
DTSTAMP:20260419T234932
CREATED:20251126T031314Z
LAST-MODIFIED:20251126T031314Z
UID:1998-1797465600-1797551999@kingsleyps.wa.edu.au
SUMMARY:Last Day of Term 4
DESCRIPTION:
URL:https://kingsleyps.wa.edu.au/calendar/last-day-of-term-4/
CATEGORIES:Term Dates
END:VEVENT
BEGIN:VEVENT
DTSTART;VALUE=DATE:20261218
DTEND;VALUE=DATE:20261219
DTSTAMP:20260419T234932
CREATED:20251215T005446Z
LAST-MODIFIED:20251215T005446Z
UID:2057-1797552000-1797638399@kingsleyps.wa.edu.au
SUMMARY:Staff Development Day - No Students
DESCRIPTION:
URL:https://kingsleyps.wa.edu.au/calendar/staff-development-day-no-students-6/
CATEGORIES:Professional Development Days
END:VEVENT
BEGIN:VEVENT
DTSTART;VALUE=DATE:20261225
DTEND;VALUE=DATE:20261226
DTSTAMP:20260419T234932
CREATED:20251215T010430Z
LAST-MODIFIED:20251215T010430Z
UID:2077-1798156800-1798243199@kingsleyps.wa.edu.au
SUMMARY:Christmas Day
DESCRIPTION:
URL:https://kingsleyps.wa.edu.au/calendar/christmas-day-3/
CATEGORIES:Public holiday
END:VEVENT
BEGIN:VEVENT
DTSTART;VALUE=DATE:20261226
DTEND;VALUE=DATE:20261227
DTSTAMP:20260419T234932
CREATED:20251215T010506Z
LAST-MODIFIED:20251215T010506Z
UID:2079-1798243200-1798329599@kingsleyps.wa.edu.au
SUMMARY:Boxing Day
DESCRIPTION:
URL:https://kingsleyps.wa.edu.au/calendar/boxing-day-3/
CATEGORIES:Public holiday
END:VEVENT
BEGIN:VEVENT
DTSTART;VALUE=DATE:20261228
DTEND;VALUE=DATE:20261229
DTSTAMP:20260419T234932
CREATED:20251215T010551Z
LAST-MODIFIED:20251215T010551Z
UID:2081-1798416000-1798502399@kingsleyps.wa.edu.au
SUMMARY:Boxing Day public holiday
DESCRIPTION:
URL:https://kingsleyps.wa.edu.au/calendar/boxing-day-public-holiday/
CATEGORIES:Public holiday
END:VEVENT
END:VCALENDAR