BEGIN:VCALENDAR
VERSION:2.0
PRODID:-//Kingsley Primary School - ECPv6.15.17//NONSGML v1.0//EN
CALSCALE:GREGORIAN
METHOD:PUBLISH
X-WR-CALNAME:Kingsley Primary School
X-ORIGINAL-URL:https://kingsleyps.wa.edu.au
X-WR-CALDESC:Events for Kingsley Primary School
REFRESH-INTERVAL;VALUE=DURATION:PT1H
X-Robots-Tag:noindex
X-PUBLISHED-TTL:PT1H
BEGIN:VTIMEZONE
TZID:Australia/Perth
BEGIN:STANDARD
TZOFFSETFROM:+0800
TZOFFSETTO:+0800
TZNAME:AWST
DTSTART:20220101T000000
END:STANDARD
END:VTIMEZONE
BEGIN:VEVENT
DTSTART;VALUE=DATE:20240313
DTEND;VALUE=DATE:20240326
DTSTAMP:20260420T141356
CREATED:20240227T032748Z
LAST-MODIFIED:20240227T032748Z
UID:898-1710288000-1711411199@kingsleyps.wa.edu.au
SUMMARY:NAPLAN
DESCRIPTION:
URL:https://kingsleyps.wa.edu.au/calendar/naplan/
CATEGORIES:School Events
END:VEVENT
BEGIN:VEVENT
DTSTART;TZID=Australia/Perth:20240308T085500
DTEND;TZID=Australia/Perth:20240308T093000
DTSTAMP:20260420T141356
CREATED:20240206T033023Z
LAST-MODIFIED:20240206T033110Z
UID:849-1709888100-1709890200@kingsleyps.wa.edu.au
SUMMARY:Assembly run by Room 12.
DESCRIPTION:
URL:https://kingsleyps.wa.edu.au/calendar/assembly-run-by-room-12/
CATEGORIES:Assembly
END:VEVENT
BEGIN:VEVENT
DTSTART;VALUE=DATE:20240304
DTEND;VALUE=DATE:20240305
DTSTAMP:20260420T141356
CREATED:20240206T032911Z
LAST-MODIFIED:20240206T032911Z
UID:847-1709510400-1709596799@kingsleyps.wa.edu.au
SUMMARY:Labour Day Holiday!
DESCRIPTION:
URL:https://kingsleyps.wa.edu.au/calendar/labour-day-holiday/
END:VEVENT
BEGIN:VEVENT
DTSTART;TZID=Australia/Perth:20240216T085500
DTEND;TZID=Australia/Perth:20240216T093000
DTSTAMP:20260420T141356
CREATED:20240206T032824Z
LAST-MODIFIED:20240206T033343Z
UID:845-1708073700-1708075800@kingsleyps.wa.edu.au
SUMMARY:Assembly run by Student Councillors.
DESCRIPTION:
URL:https://kingsleyps.wa.edu.au/calendar/assembly-run-by-student-councillors/
CATEGORIES:Assembly
END:VEVENT
BEGIN:VEVENT
DTSTART;TZID=Australia/Perth:20240216T074500
DTEND;TZID=Australia/Perth:20240216T081500
DTSTAMP:20260420T141356
CREATED:20240206T032708Z
LAST-MODIFIED:20240209T004515Z
UID:843-1708069500-1708071300@kingsleyps.wa.edu.au
SUMMARY:Community Breakfast at Creyk Park.
DESCRIPTION:Come down to Creyk Park at 7:45am and enjoy a free sausage sizzle breakfast!
URL:https://kingsleyps.wa.edu.au/calendar/community-breakfast-at-creyk-park/
LOCATION:Creyk Park\, 15 Lillian Avenue\, Kelmscott\, WA\, Australia
CATEGORIES:School Events
END:VEVENT
BEGIN:VEVENT
DTSTART;VALUE=DATE:20240131
DTEND;VALUE=DATE:20240201
DTSTAMP:20260420T141356
CREATED:20231204T125924Z
LAST-MODIFIED:20231212T055018Z
UID:650-1706659200-1706745599@kingsleyps.wa.edu.au
SUMMARY:Term 1 Begins for students
DESCRIPTION:
URL:https://kingsleyps.wa.edu.au/calendar/term-1-begins/
CATEGORIES:Term Dates
END:VEVENT
BEGIN:VEVENT
DTSTART;VALUE=DATE:20240130
DTEND;VALUE=DATE:20240131
DTSTAMP:20260420T141356
CREATED:20231212T054846Z
LAST-MODIFIED:20231212T054846Z
UID:826-1706572800-1706659199@kingsleyps.wa.edu.au
SUMMARY:School Development Day
DESCRIPTION:
URL:https://kingsleyps.wa.edu.au/calendar/school-development-day-2/
CATEGORIES:Professional Development Days
END:VEVENT
BEGIN:VEVENT
DTSTART;VALUE=DATE:20240129
DTEND;VALUE=DATE:20240130
DTSTAMP:20260420T141356
CREATED:20231212T054744Z
LAST-MODIFIED:20231212T054744Z
UID:824-1706486400-1706572799@kingsleyps.wa.edu.au
SUMMARY:School Development Day
DESCRIPTION:
URL:https://kingsleyps.wa.edu.au/calendar/school-development-day/
CATEGORIES:Professional Development Days
END:VEVENT
BEGIN:VEVENT
DTSTART;TZID=Australia/Perth:20240125T090000
DTEND;TZID=Australia/Perth:20240125T150000
DTSTAMP:20260420T141356
CREATED:20231212T055449Z
LAST-MODIFIED:20231212T055449Z
UID:832-1706173200-1706194800@kingsleyps.wa.edu.au
SUMMARY:School office open
DESCRIPTION:
URL:https://kingsleyps.wa.edu.au/calendar/school-office-open-2/
CATEGORIES:Professional Development Days
END:VEVENT
BEGIN:VEVENT
DTSTART;VALUE=DATE:20231215
DTEND;VALUE=DATE:20231216
DTSTAMP:20260420T141356
CREATED:20231204T125900Z
LAST-MODIFIED:20231204T125900Z
UID:648-1702598400-1702684799@kingsleyps.wa.edu.au
SUMMARY:Staff Development Day
DESCRIPTION:
URL:https://kingsleyps.wa.edu.au/calendar/staff-development-day/
CATEGORIES:Professional Development Days
END:VEVENT
BEGIN:VEVENT
DTSTART;TZID=Australia/Perth:20231214T142500
DTEND;TZID=Australia/Perth:20231214T143000
DTSTAMP:20260420T141356
CREATED:20231204T125838Z
LAST-MODIFIED:20231204T125838Z
UID:646-1702563900-1702564200@kingsleyps.wa.edu.au
SUMMARY:Yr 6 Ring The Bell Goodbye 2:25pm
DESCRIPTION:
URL:https://kingsleyps.wa.edu.au/calendar/yr-6-ring-the-bell-goodbye-225pm/
CATEGORIES:School Events
END:VEVENT
BEGIN:VEVENT
DTSTART;VALUE=DATE:20231213
DTEND;VALUE=DATE:20231214
DTSTAMP:20260420T141356
CREATED:20231204T125754Z
LAST-MODIFIED:20231204T125754Z
UID:644-1702425600-1702511999@kingsleyps.wa.edu.au
SUMMARY:Yr 6 Adventure World
DESCRIPTION:
URL:https://kingsleyps.wa.edu.au/calendar/yr-6-adventure-world/
CATEGORIES:School Events
END:VEVENT
BEGIN:VEVENT
DTSTART;TZID=Australia/Perth:20231211T180000
DTEND;TZID=Australia/Perth:20231211T190000
DTSTAMP:20260420T141356
CREATED:20231204T130744Z
LAST-MODIFIED:20231204T130744Z
UID:661-1702317600-1702321200@kingsleyps.wa.edu.au
SUMMARY:Graduation
DESCRIPTION:
URL:https://kingsleyps.wa.edu.au/calendar/graduation/
CATEGORIES:School Events
END:VEVENT
BEGIN:VEVENT
DTSTART;VALUE=DATE:20231211
DTEND;VALUE=DATE:20231212
DTSTAMP:20260420T141356
CREATED:20231204T130709Z
LAST-MODIFIED:20231204T130709Z
UID:659-1702252800-1702339199@kingsleyps.wa.edu.au
SUMMARY:Reward Day for Years 1-5 – Bounce!
DESCRIPTION:
URL:https://kingsleyps.wa.edu.au/calendar/reward-day-for-years-1-5-bounce/
CATEGORIES:School Events
END:VEVENT
BEGIN:VEVENT
DTSTART;TZID=Australia/Perth:20231206T090000
DTEND;TZID=Australia/Perth:20231206T100000
DTSTAMP:20260420T141356
CREATED:20231204T130613Z
LAST-MODIFIED:20231204T130613Z
UID:655-1701853200-1701856800@kingsleyps.wa.edu.au
SUMMARY:Affirmation Awards Assembly
DESCRIPTION:
URL:https://kingsleyps.wa.edu.au/calendar/affirmation-awards-assembly/
CATEGORIES:Assembly
END:VEVENT
BEGIN:VEVENT
DTSTART;TZID=Australia/Perth:20231204T090000
DTEND;TZID=Australia/Perth:20231204T100000
DTSTAMP:20260420T141356
CREATED:20231204T130646Z
LAST-MODIFIED:20231204T130646Z
UID:657-1701680400-1701684000@kingsleyps.wa.edu.au
SUMMARY:Assembly – Book Awards
DESCRIPTION:
URL:https://kingsleyps.wa.edu.au/calendar/assembly-book-awards/
CATEGORIES:Assembly
END:VEVENT
END:VCALENDAR