BEGIN:VCALENDAR
VERSION:2.0
PRODID:-//Kingsley Primary School - ECPv6.15.17//NONSGML v1.0//EN
CALSCALE:GREGORIAN
METHOD:PUBLISH
X-ORIGINAL-URL:https://kingsleyps.wa.edu.au
X-WR-CALDESC:Events for Kingsley Primary School
REFRESH-INTERVAL;VALUE=DURATION:PT1H
X-Robots-Tag:noindex
X-PUBLISHED-TTL:PT1H
BEGIN:VTIMEZONE
TZID:Australia/Perth
BEGIN:STANDARD
TZOFFSETFROM:+0800
TZOFFSETTO:+0800
TZNAME:AWST
DTSTART:20240101T000000
END:STANDARD
END:VTIMEZONE
BEGIN:VEVENT
DTSTART;TZID=Australia/Perth:20251215T180000
DTEND;TZID=Australia/Perth:20251215T190000
DTSTAMP:20260426T115639
CREATED:20251017T062204Z
LAST-MODIFIED:20251017T062204Z
UID:1927-1765821600-1765825200@kingsleyps.wa.edu.au
SUMMARY:YEAR 6 GRADUATION
DESCRIPTION:
URL:https://kingsleyps.wa.edu.au/calendar/year-6-graduation-2/
CATEGORIES:School Events
END:VEVENT
BEGIN:VEVENT
DTSTART;VALUE=DATE:20251217
DTEND;VALUE=DATE:20251218
DTSTAMP:20260426T115639
CREATED:20251126T013419Z
LAST-MODIFIED:20251126T013602Z
UID:1967-1765929600-1766015999@kingsleyps.wa.edu.au
SUMMARY:WATER FUN DAY PP-5
DESCRIPTION:
URL:https://kingsleyps.wa.edu.au/calendar/water-fun-day-pp-5/
CATEGORIES:School Events
END:VEVENT
END:VCALENDAR