BEGIN:VCALENDAR
VERSION:2.0
PRODID:-//Kingsley Primary School - ECPv6.15.17//NONSGML v1.0//EN
CALSCALE:GREGORIAN
METHOD:PUBLISH
X-WR-CALNAME:Kingsley Primary School
X-ORIGINAL-URL:https://kingsleyps.wa.edu.au
X-WR-CALDESC:Events for Kingsley Primary School
REFRESH-INTERVAL;VALUE=DURATION:PT1H
X-Robots-Tag:noindex
X-PUBLISHED-TTL:PT1H
BEGIN:VTIMEZONE
TZID:Australia/Perth
BEGIN:STANDARD
TZOFFSETFROM:+0800
TZOFFSETTO:+0800
TZNAME:AWST
DTSTART:20240101T000000
END:STANDARD
END:VTIMEZONE
BEGIN:VEVENT
DTSTART;TZID=Australia/Perth:20251107T090000
DTEND;TZID=Australia/Perth:20251107T140000
DTSTAMP:20260422T013811
CREATED:20251015T043305Z
LAST-MODIFIED:20251015T043305Z
UID:1911-1762506000-1762524000@kingsleyps.wa.edu.au
SUMMARY:SWIMMING LESSONS
DESCRIPTION:
URL:https://kingsleyps.wa.edu.au/calendar/swimming-lessons-5/
CATEGORIES:Sport
END:VEVENT
END:VCALENDAR