BEGIN:VCALENDAR
VERSION:2.0
PRODID:-//Kingsley Primary School - ECPv6.15.17//NONSGML v1.0//EN
CALSCALE:GREGORIAN
METHOD:PUBLISH
X-WR-CALNAME:Kingsley Primary School
X-ORIGINAL-URL:https://kingsleyps.wa.edu.au
X-WR-CALDESC:Events for Kingsley Primary School
REFRESH-INTERVAL;VALUE=DURATION:PT1H
X-Robots-Tag:noindex
X-PUBLISHED-TTL:PT1H
BEGIN:VTIMEZONE
TZID:Australia/Perth
BEGIN:STANDARD
TZOFFSETFROM:+0800
TZOFFSETTO:+0800
TZNAME:AWST
DTSTART:20240101T000000
END:STANDARD
END:VTIMEZONE
BEGIN:VEVENT
DTSTART;TZID=Australia/Perth:20250926T083000
DTEND;TZID=Australia/Perth:20250926T150000
DTSTAMP:20260422T064054
CREATED:20241129T033745Z
LAST-MODIFIED:20241129T033745Z
UID:1491-1758875400-1758898800@kingsleyps.wa.edu.au
SUMMARY:Final day of Term 3.
DESCRIPTION:
URL:https://kingsleyps.wa.edu.au/calendar/final-day-of-term-3/
CATEGORIES:Term Dates
END:VEVENT
END:VCALENDAR