BEGIN:VCALENDAR
VERSION:2.0
PRODID:-//Kingsley Primary School - ECPv6.15.17//NONSGML v1.0//EN
CALSCALE:GREGORIAN
METHOD:PUBLISH
X-ORIGINAL-URL:https://kingsleyps.wa.edu.au
X-WR-CALDESC:Events for Kingsley Primary School
REFRESH-INTERVAL;VALUE=DURATION:PT1H
X-Robots-Tag:noindex
X-PUBLISHED-TTL:PT1H
BEGIN:VTIMEZONE
TZID:Australia/Perth
BEGIN:STANDARD
TZOFFSETFROM:+0800
TZOFFSETTO:+0800
TZNAME:AWST
DTSTART:20240101T000000
END:STANDARD
END:VTIMEZONE
BEGIN:VEVENT
DTSTART;TZID=Australia/Perth:20250821T090000
DTEND;TZID=Australia/Perth:20250821T093000
DTSTAMP:20260418T104208
CREATED:20250723T005611Z
LAST-MODIFIED:20250723T005611Z
UID:1805-1755766800-1755768600@kingsleyps.wa.edu.au
SUMMARY:Book Week Parade
DESCRIPTION:
URL:https://kingsleyps.wa.edu.au/calendar/book-week-parade-2/
CATEGORIES:School Events
END:VEVENT
END:VCALENDAR