BEGIN:VCALENDAR
VERSION:2.0
PRODID:-//Kingsley Primary School - ECPv6.15.17//NONSGML v1.0//EN
CALSCALE:GREGORIAN
METHOD:PUBLISH
X-ORIGINAL-URL:https://kingsleyps.wa.edu.au
X-WR-CALDESC:Events for Kingsley Primary School
REFRESH-INTERVAL;VALUE=DURATION:PT1H
X-Robots-Tag:noindex
X-PUBLISHED-TTL:PT1H
BEGIN:VTIMEZONE
TZID:Australia/Perth
BEGIN:STANDARD
TZOFFSETFROM:+0800
TZOFFSETTO:+0800
TZNAME:AWST
DTSTART:20240101T000000
END:STANDARD
END:VTIMEZONE
BEGIN:VEVENT
DTSTART;TZID=Australia/Perth:20250530T083000
DTEND;TZID=Australia/Perth:20250530T150000
DTSTAMP:20260415T101507
CREATED:20241129T033445Z
LAST-MODIFIED:20241129T033445Z
UID:1485-1748593800-1748617200@kingsleyps.wa.edu.au
SUMMARY:School Development Day - no students.
DESCRIPTION:
URL:https://kingsleyps.wa.edu.au/calendar/school-development-day-no-students-6/
CATEGORIES:Professional Development Days
END:VEVENT
END:VCALENDAR