BEGIN:VCALENDAR
VERSION:2.0
PRODID:-//Kingsley Primary School - ECPv6.15.17//NONSGML v1.0//EN
CALSCALE:GREGORIAN
METHOD:PUBLISH
X-ORIGINAL-URL:https://kingsleyps.wa.edu.au
X-WR-CALDESC:Events for Kingsley Primary School
REFRESH-INTERVAL;VALUE=DURATION:PT1H
X-Robots-Tag:noindex
X-PUBLISHED-TTL:PT1H
BEGIN:VTIMEZONE
TZID:Australia/Perth
BEGIN:STANDARD
TZOFFSETFROM:+0800
TZOFFSETTO:+0800
TZNAME:AWST
DTSTART:20240101T000000
END:STANDARD
END:VTIMEZONE
BEGIN:VEVENT
DTSTART;TZID=Australia/Perth:20250523T130000
DTEND;TZID=Australia/Perth:20250523T143000
DTSTAMP:20260413T083322
CREATED:20250404T063132Z
LAST-MODIFIED:20250404T063132Z
UID:1624-1748005200-1748010600@kingsleyps.wa.edu.au
SUMMARY:Interschool sport - Willandra vs Kingsley
DESCRIPTION:
URL:https://kingsleyps.wa.edu.au/calendar/interschool-sport-willandra-vs-kingsley/
CATEGORIES:Sport
END:VEVENT
END:VCALENDAR