BEGIN:VCALENDAR
VERSION:2.0
PRODID:-//Kingsley Primary School - ECPv6.15.17//NONSGML v1.0//EN
CALSCALE:GREGORIAN
METHOD:PUBLISH
X-ORIGINAL-URL:https://kingsleyps.wa.edu.au
X-WR-CALDESC:Events for Kingsley Primary School
REFRESH-INTERVAL;VALUE=DURATION:PT1H
X-Robots-Tag:noindex
X-PUBLISHED-TTL:PT1H
BEGIN:VTIMEZONE
TZID:Australia/Perth
BEGIN:STANDARD
TZOFFSETFROM:+0800
TZOFFSETTO:+0800
TZNAME:AWST
DTSTART:20240101T000000
END:STANDARD
END:VTIMEZONE
BEGIN:VEVENT
DTSTART;TZID=Australia/Perth:20250502T100000
DTEND;TZID=Australia/Perth:20250502T103000
DTSTAMP:20260419T223244
CREATED:20250408T055255Z
LAST-MODIFIED:20250408T055255Z
UID:1653-1746180000-1746181800@kingsleyps.wa.edu.au
SUMMARY:Kingsley PS ANZAC ceremony
DESCRIPTION:
URL:https://kingsleyps.wa.edu.au/calendar/kingsley-ps-anzac-ceremony/
CATEGORIES:School Events
END:VEVENT
BEGIN:VEVENT
DTSTART;TZID=Australia/Perth:20250502T130000
DTEND;TZID=Australia/Perth:20250502T143000
DTSTAMP:20260419T223244
CREATED:20250404T063006Z
LAST-MODIFIED:20250404T063006Z
UID:1622-1746190800-1746196200@kingsleyps.wa.edu.au
SUMMARY:Interschool sport - Kingsley vs Gwynne Park
DESCRIPTION:
URL:https://kingsleyps.wa.edu.au/calendar/interschool-sport-kingsley-vs-gwynne-park/
CATEGORIES:Sport
END:VEVENT
END:VCALENDAR