BEGIN:VCALENDAR
VERSION:2.0
PRODID:-//Kingsley Primary School - ECPv6.15.17//NONSGML v1.0//EN
CALSCALE:GREGORIAN
METHOD:PUBLISH
X-WR-CALNAME:Kingsley Primary School
X-ORIGINAL-URL:https://kingsleyps.wa.edu.au
X-WR-CALDESC:Events for Kingsley Primary School
REFRESH-INTERVAL;VALUE=DURATION:PT1H
X-Robots-Tag:noindex
X-PUBLISHED-TTL:PT1H
BEGIN:VTIMEZONE
TZID:Australia/Perth
BEGIN:STANDARD
TZOFFSETFROM:+0800
TZOFFSETTO:+0800
TZNAME:AWST
DTSTART:20230101T000000
END:STANDARD
END:VTIMEZONE
BEGIN:VEVENT
DTSTART;TZID=Australia/Perth:20241209T090000
DTEND;TZID=Australia/Perth:20241209T143000
DTSTAMP:20260421T184447
CREATED:20240913T062118Z
LAST-MODIFIED:20240913T062118Z
UID:1376-1733734800-1733754600@kingsleyps.wa.edu.au
SUMMARY:Reward Day for years 1 - 5 at BOUNCE
DESCRIPTION:
URL:https://kingsleyps.wa.edu.au/calendar/reward-day-for-years-1-5-at-bounce/
CATEGORIES:School Events
END:VEVENT
BEGIN:VEVENT
DTSTART;TZID=Australia/Perth:20241209T180000
DTEND;TZID=Australia/Perth:20241209T190000
DTSTAMP:20260421T184447
CREATED:20240913T062212Z
LAST-MODIFIED:20240913T062212Z
UID:1378-1733767200-1733770800@kingsleyps.wa.edu.au
SUMMARY:Year 6 Graduation
DESCRIPTION:
URL:https://kingsleyps.wa.edu.au/calendar/year-6-graduation/
CATEGORIES:School Events
END:VEVENT
END:VCALENDAR