BEGIN:VCALENDAR
VERSION:2.0
PRODID:-//Kingsley Primary School - ECPv6.15.17//NONSGML v1.0//EN
CALSCALE:GREGORIAN
METHOD:PUBLISH
X-WR-CALNAME:Kingsley Primary School
X-ORIGINAL-URL:https://kingsleyps.wa.edu.au
X-WR-CALDESC:Events for Kingsley Primary School
REFRESH-INTERVAL;VALUE=DURATION:PT1H
X-Robots-Tag:noindex
X-PUBLISHED-TTL:PT1H
BEGIN:VTIMEZONE
TZID:Australia/Perth
BEGIN:STANDARD
TZOFFSETFROM:+0800
TZOFFSETTO:+0800
TZNAME:AWST
DTSTART:20230101T000000
END:STANDARD
END:VTIMEZONE
BEGIN:VEVENT
DTSTART;VALUE=DATE:20240624
DTEND;VALUE=DATE:20240625
DTSTAMP:20260420T065613
CREATED:20240325T033146Z
LAST-MODIFIED:20240326T055507Z
UID:1009-1719187200-1719273599@kingsleyps.wa.edu.au
SUMMARY:School Photos K (group 1) to year 6
DESCRIPTION:
URL:https://kingsleyps.wa.edu.au/calendar/school-photos-k-group-1-to-year-6/
CATEGORIES:School Events
END:VEVENT
END:VCALENDAR