BEGIN:VCALENDAR
VERSION:2.0
PRODID:-//Kingsley Primary School - ECPv6.15.17//NONSGML v1.0//EN
CALSCALE:GREGORIAN
METHOD:PUBLISH
X-WR-CALNAME:Kingsley Primary School
X-ORIGINAL-URL:https://kingsleyps.wa.edu.au
X-WR-CALDESC:Events for Kingsley Primary School
REFRESH-INTERVAL;VALUE=DURATION:PT1H
X-Robots-Tag:noindex
X-PUBLISHED-TTL:PT1H
BEGIN:VTIMEZONE
TZID:Australia/Perth
BEGIN:STANDARD
TZOFFSETFROM:+0800
TZOFFSETTO:+0800
TZNAME:AWST
DTSTART:20230101T000000
END:STANDARD
END:VTIMEZONE
BEGIN:VEVENT
DTSTART;TZID=Australia/Perth:20240621T130000
DTEND;TZID=Australia/Perth:20240621T145000
DTSTAMP:20260420T065640
CREATED:20240326T010434Z
LAST-MODIFIED:20240326T010434Z
UID:1031-1718974800-1718981400@kingsleyps.wa.edu.au
SUMMARY:Inter-School at Kingsley vs Clifton Hills PS
DESCRIPTION:
URL:https://kingsleyps.wa.edu.au/calendar/inter-school-at-kingsley-vs-clifton-hills-ps/
CATEGORIES:Sport
END:VEVENT
END:VCALENDAR