BEGIN:VCALENDAR
VERSION:2.0
PRODID:-//Kingsley Primary School - ECPv6.15.17//NONSGML v1.0//EN
CALSCALE:GREGORIAN
METHOD:PUBLISH
X-WR-CALNAME:Kingsley Primary School
X-ORIGINAL-URL:https://kingsleyps.wa.edu.au
X-WR-CALDESC:Events for Kingsley Primary School
REFRESH-INTERVAL;VALUE=DURATION:PT1H
X-Robots-Tag:noindex
X-PUBLISHED-TTL:PT1H
BEGIN:VTIMEZONE
TZID:Australia/Perth
BEGIN:STANDARD
TZOFFSETFROM:+0800
TZOFFSETTO:+0800
TZNAME:AWST
DTSTART:20230101T000000
END:STANDARD
END:VTIMEZONE
BEGIN:VEVENT
DTSTART;VALUE=DATE:20240603
DTEND;VALUE=DATE:20240604
DTSTAMP:20260420T065612
CREATED:20240227T055338Z
LAST-MODIFIED:20240227T055421Z
UID:908-1717372800-1717459199@kingsleyps.wa.edu.au
SUMMARY:Public Holiday WA DAY
DESCRIPTION:
URL:https://kingsleyps.wa.edu.au/calendar/public-holiday-wa-day/
CATEGORIES:Special Days
END:VEVENT
BEGIN:VEVENT
DTSTART;TZID=Australia/Perth:20240603T090000
DTEND;TZID=Australia/Perth:20240603T130000
DTSTAMP:20260420T065612
CREATED:20240503T060350Z
LAST-MODIFIED:20240503T060350Z
UID:1088-1717405200-1717419600@kingsleyps.wa.edu.au
SUMMARY:Inter-school Cross Country
DESCRIPTION:
URL:https://kingsleyps.wa.edu.au/calendar/inter-school-cross-country-2/
CATEGORIES:Sport
END:VEVENT
END:VCALENDAR