BEGIN:VCALENDAR
VERSION:2.0
PRODID:-//Kingsley Primary School - ECPv6.15.17//NONSGML v1.0//EN
CALSCALE:GREGORIAN
METHOD:PUBLISH
X-WR-CALNAME:Kingsley Primary School
X-ORIGINAL-URL:https://kingsleyps.wa.edu.au
X-WR-CALDESC:Events for Kingsley Primary School
REFRESH-INTERVAL;VALUE=DURATION:PT1H
X-Robots-Tag:noindex
X-PUBLISHED-TTL:PT1H
BEGIN:VTIMEZONE
TZID:Australia/Perth
BEGIN:STANDARD
TZOFFSETFROM:+0800
TZOFFSETTO:+0800
TZNAME:AWST
DTSTART:20230101T000000
END:STANDARD
END:VTIMEZONE
BEGIN:VEVENT
DTSTART;TZID=Australia/Perth:20240125T090000
DTEND;TZID=Australia/Perth:20240125T150000
DTSTAMP:20260420T134316
CREATED:20231212T055449Z
LAST-MODIFIED:20231212T055449Z
UID:832-1706173200-1706194800@kingsleyps.wa.edu.au
SUMMARY:School office open
DESCRIPTION:
URL:https://kingsleyps.wa.edu.au/calendar/school-office-open-2/
CATEGORIES:Professional Development Days
END:VEVENT
END:VCALENDAR